BEGIN:VCALENDAR
VERSION:2.0
PRODID:-//spbstu.ru//ical//RU
NAME:Расписание группы 3733802/30501
X-WR-CALNAME:Расписание группы 3733802/30501
TIMEZONE-ID:Europe/Moscow
X-WR-TIMEZONE:Europe/Moscow
BEGIN:VEVENT
UID:352c@192.168.245.71:3006
SEQUENCE:0
DTSTAMP:20260425T230103Z
DTSTART:20251013T070000Z
DTEND:20251013T084000Z
SUMMARY:Экологический менеджмент на предприятиях энергетики
LOCATION:50 уч.к 1318
END:VEVENT
BEGIN:VEVENT
UID:1zda@192.168.245.71:3006
SEQUENCE:0
DTSTAMP:20260425T230103Z
DTSTART:20251013T090000Z
DTEND:20251013T104000Z
SUMMARY:Экологический менеджмент на предприятиях энергетики
LOCATION:50 уч.к 1103
END:VEVENT
BEGIN:VEVENT
UID:0qyb@192.168.245.71:3006
SEQUENCE:0
DTSTAMP:20260425T230103Z
DTSTART:20251013T110000Z
DTEND:20251013T124000Z
SUMMARY:Иностранный язык. Профессионально-ориентированный курс
LOCATION:16 к. 417
END:VEVENT
BEGIN:VEVENT
UID:rue2@192.168.245.71:3006
SEQUENCE:0
DTSTAMP:20260425T230103Z
DTSTART:20251014T070000Z
DTEND:20251014T084000Z
SUMMARY:Введение в энергетический менеджмент
LOCATION:50 уч.к 1112
END:VEVENT
BEGIN:VEVENT
UID:11vh@192.168.245.71:3006
SEQUENCE:0
DTSTAMP:20260425T230103Z
DTSTART:20251014T090000Z
DTEND:20251014T104000Z
SUMMARY:Введение в энергетический менеджмент
LOCATION:50 уч.к 1112
END:VEVENT
BEGIN:VEVENT
UID:5vob@192.168.245.71:3006
SEQUENCE:0
DTSTAMP:20260425T230103Z
DTSTART:20251014T110000Z
DTEND:20251014T124000Z
SUMMARY:Ресурсный менеджмент
LOCATION:50 уч.к 1318
END:VEVENT
BEGIN:VEVENT
UID:je4b@192.168.245.71:3006
SEQUENCE:0
DTSTAMP:20260425T230103Z
DTSTART:20251015T070000Z
DTEND:20251015T084000Z
SUMMARY:Управление и аналитика данных на предприятии
LOCATION:50 уч.к 1338
END:VEVENT
BEGIN:VEVENT
UID:32e1@192.168.245.71:3006
SEQUENCE:0
DTSTAMP:20260425T230103Z
DTSTART:20251015T090000Z
DTEND:20251015T104000Z
SUMMARY:Управление инновациями
LOCATION:50 уч.к 1432
END:VEVENT
BEGIN:VEVENT
UID:jm8w@192.168.245.71:3006
SEQUENCE:0
DTSTAMP:20260425T230103Z
DTSTART:20251015T110000Z
DTEND:20251015T124000Z
SUMMARY:Ресурсный менеджмент
LOCATION:50 уч.к 1432
END:VEVENT
BEGIN:VEVENT
UID:nrcu@192.168.245.71:3006
SEQUENCE:0
DTSTAMP:20260425T230103Z
DTSTART:20251017T070000Z
DTEND:20251017T084000Z
SUMMARY:Операционный менеджмент
LOCATION:50 уч.к 1206
END:VEVENT
BEGIN:VEVENT
UID:4bkl@192.168.245.71:3006
SEQUENCE:0
DTSTAMP:20260425T230103Z
DTSTART:20251017T090000Z
DTEND:20251017T104000Z
SUMMARY:Операционный менеджмент
LOCATION:50 уч.к 1206
END:VEVENT
BEGIN:VEVENT
UID:eujg@192.168.245.71:3006
SEQUENCE:0
DTSTAMP:20260425T230103Z
DTSTART:20251017T110000Z
DTEND:20251017T124000Z
SUMMARY:Карьерная адаптивность: Практики современного маркетинга
LOCATION:50 уч.к 1105
END:VEVENT
BEGIN:VEVENT
UID:n4an@192.168.245.71:3006
SEQUENCE:0
DTSTAMP:20260425T230103Z
DTSTART:20251017T110000Z
DTEND:20251017T124000Z
SUMMARY:Карьерная адаптивность: Управление активами и стоимостью организац
 ии в условиях экономической нестабильности
LOCATION:50 уч.к 1111
END:VEVENT
BEGIN:VEVENT
UID:z2xk@192.168.245.71:3006
SEQUENCE:0
DTSTAMP:20260425T230103Z
DTSTART:20251017T110000Z
DTEND:20251017T124000Z
SUMMARY:Карьерная адаптивность: Правовые основы построения индивидуальной 
 карьерной траектории
LOCATION:50 уч.к 1323
END:VEVENT
END:VCALENDAR