BEGIN:VCALENDAR
VERSION:2.0
PRODID:-//spbstu.ru//ical//RU
NAME:Расписание группы 3733802/30501
X-WR-CALNAME:Расписание группы 3733802/30501
TIMEZONE-ID:Europe/Moscow
X-WR-TIMEZONE:Europe/Moscow
BEGIN:VEVENT
UID:2vv1@192.168.245.71:3006
SEQUENCE:0
DTSTAMP:20260424T094205Z
DTSTART:20251208T070000Z
DTEND:20251208T084000Z
SUMMARY:Экологический менеджмент на предприятиях энергетики
LOCATION:50 уч.к 1318
END:VEVENT
BEGIN:VEVENT
UID:mc5s@192.168.245.71:3006
SEQUENCE:0
DTSTAMP:20260424T094205Z
DTSTART:20251208T090000Z
DTEND:20251208T104000Z
SUMMARY:Экологический менеджмент на предприятиях энергетики
LOCATION:50 уч.к 1103
END:VEVENT
BEGIN:VEVENT
UID:45nu@192.168.245.71:3006
SEQUENCE:0
DTSTAMP:20260424T094205Z
DTSTART:20251208T110000Z
DTEND:20251208T124000Z
SUMMARY:Иностранный язык. Профессионально-ориентированный курс
LOCATION:16 к. 402
END:VEVENT
BEGIN:VEVENT
UID:b89a@192.168.245.71:3006
SEQUENCE:0
DTSTAMP:20260424T094205Z
DTSTART:20251209T090000Z
DTEND:20251209T104000Z
SUMMARY:Введение в энергетический менеджмент
LOCATION:50 уч.к 1112
END:VEVENT
BEGIN:VEVENT
UID:qz83@192.168.245.71:3006
SEQUENCE:0
DTSTAMP:20260424T094205Z
DTSTART:20251209T110000Z
DTEND:20251209T124000Z
SUMMARY:Ресурсный менеджмент
LOCATION:50 уч.к 1318
END:VEVENT
BEGIN:VEVENT
UID:omh4@192.168.245.71:3006
SEQUENCE:0
DTSTAMP:20260424T094205Z
DTSTART:20251210T050000Z
DTEND:20251210T064000Z
SUMMARY:Управление и аналитика данных на предприятии
LOCATION:50 уч.к 1208
END:VEVENT
BEGIN:VEVENT
UID:1nc6@192.168.245.71:3006
SEQUENCE:0
DTSTAMP:20260424T094205Z
DTSTART:20251210T070000Z
DTEND:20251210T084000Z
SUMMARY:Управление и аналитика данных на предприятии
LOCATION:50 уч.к 1208
END:VEVENT
BEGIN:VEVENT
UID:nubj@192.168.245.71:3006
SEQUENCE:0
DTSTAMP:20260424T094205Z
DTSTART:20251210T090000Z
DTEND:20251210T104000Z
SUMMARY:Управление инновациями
LOCATION:50 уч.к 1432
END:VEVENT
BEGIN:VEVENT
UID:syjl@192.168.245.71:3006
SEQUENCE:0
DTSTAMP:20260424T094205Z
DTSTART:20251210T110000Z
DTEND:20251210T124000Z
SUMMARY:Ресурсный менеджмент
LOCATION:50 уч.к 1432
END:VEVENT
BEGIN:VEVENT
UID:hz51@192.168.245.71:3006
SEQUENCE:0
DTSTAMP:20260424T094205Z
DTSTART:20251211T050000Z
DTEND:20251211T064000Z
SUMMARY:Математические методы в экономике и управлении
LOCATION:50 уч.к 1109
END:VEVENT
BEGIN:VEVENT
UID:gf1o@192.168.245.71:3006
SEQUENCE:0
DTSTAMP:20260424T094205Z
DTSTART:20251211T070000Z
DTEND:20251211T084000Z
SUMMARY:Управление и аналитика данных на предприятии
LOCATION:50 уч.к 1109
END:VEVENT
BEGIN:VEVENT
UID:cimn@192.168.245.71:3006
SEQUENCE:0
DTSTAMP:20260424T094205Z
DTSTART:20251212T070000Z
DTEND:20251212T084000Z
SUMMARY:Операционный менеджмент
LOCATION:50 уч.к 1206
END:VEVENT
BEGIN:VEVENT
UID:opf2@192.168.245.71:3006
SEQUENCE:0
DTSTAMP:20260424T094205Z
DTSTART:20251212T090000Z
DTEND:20251212T104000Z
SUMMARY:Операционный менеджмент
LOCATION:50 уч.к 1206
END:VEVENT
BEGIN:VEVENT
UID:h86x@192.168.245.71:3006
SEQUENCE:0
DTSTAMP:20260424T094205Z
DTSTART:20251212T110000Z
DTEND:20251212T124000Z
SUMMARY:Карьерная адаптивность: Практики современного маркетинга
LOCATION:50 уч.к 1105
END:VEVENT
BEGIN:VEVENT
UID:dwia@192.168.245.71:3006
SEQUENCE:0
DTSTAMP:20260424T094205Z
DTSTART:20251212T110000Z
DTEND:20251212T124000Z
SUMMARY:Карьерная адаптивность: Управление активами и стоимостью организац
 ии в условиях экономической нестабильности
LOCATION:50 уч.к 1111
END:VEVENT
BEGIN:VEVENT
UID:vwnr@192.168.245.71:3006
SEQUENCE:0
DTSTAMP:20260424T094205Z
DTSTART:20251212T110000Z
DTEND:20251212T124000Z
SUMMARY:Карьерная адаптивность: Правовые основы построения индивидуальной 
 карьерной траектории
LOCATION:50 уч.к 1323
END:VEVENT
END:VCALENDAR