BEGIN:VCALENDAR
VERSION:2.0
PRODID:-//spbstu.ru//ical//RU
NAME:Расписание группы 3733802/30801
X-WR-CALNAME:Расписание группы 3733802/30801
TIMEZONE-ID:Europe/Moscow
X-WR-TIMEZONE:Europe/Moscow
BEGIN:VEVENT
UID:mjcw@192.168.245.71:3006
SEQUENCE:0
DTSTAMP:20260422T081749Z
DTSTART:20260224T110000Z
DTEND:20260224T124000Z
SUMMARY:Глобальная логистика
LOCATION:50 уч.к 1112
END:VEVENT
BEGIN:VEVENT
UID:rlw6@192.168.245.71:3006
SEQUENCE:0
DTSTAMP:20260422T081749Z
DTSTART:20260224T130000Z
DTEND:20260224T144000Z
SUMMARY:Глобальная логистика
LOCATION:50 уч.к 1112
END:VEVENT
BEGIN:VEVENT
UID:kyzp@192.168.245.71:3006
SEQUENCE:0
DTSTAMP:20260422T081749Z
DTSTART:20260225T070000Z
DTEND:20260225T084000Z
SUMMARY:Методы и модели прогнозирования
LOCATION:50 уч.к 1421
END:VEVENT
BEGIN:VEVENT
UID:5fjb@192.168.245.71:3006
SEQUENCE:0
DTSTAMP:20260422T081749Z
DTSTART:20260225T090000Z
DTEND:20260225T104000Z
SUMMARY:Методы и модели прогнозирования
LOCATION:50 уч.к 1336
END:VEVENT
BEGIN:VEVENT
UID:w6g5@192.168.245.71:3006
SEQUENCE:0
DTSTAMP:20260422T081749Z
DTSTART:20260225T110000Z
DTEND:20260225T124000Z
SUMMARY:Карьерная адаптивность: Применение инструментов гибкого управления
  для формирования навыков менеджеров будущего
LOCATION:50 уч.к 1245
END:VEVENT
BEGIN:VEVENT
UID:jk6h@192.168.245.71:3006
SEQUENCE:0
DTSTAMP:20260422T081749Z
DTSTART:20260225T130000Z
DTEND:20260225T144000Z
SUMMARY:Карьерная адаптивность: Применение инструментов гибкого управления
  для формирования навыков менеджеров будущего
LOCATION:50 уч.к 1319
END:VEVENT
BEGIN:VEVENT
UID:lx88@192.168.245.71:3006
SEQUENCE:0
DTSTAMP:20260422T081749Z
DTSTART:20260226T110000Z
DTEND:20260226T124000Z
SUMMARY:Инвестиционный анализ
LOCATION:50 уч.к 1214
END:VEVENT
BEGIN:VEVENT
UID:qdhs@192.168.245.71:3006
SEQUENCE:0
DTSTAMP:20260422T081749Z
DTSTART:20260226T130000Z
DTEND:20260226T144000Z
SUMMARY:Технико-экономический анализ
LOCATION:50 уч.к 1214
END:VEVENT
BEGIN:VEVENT
UID:c7w8@192.168.245.71:3006
SEQUENCE:0
DTSTAMP:20260422T081749Z
DTSTART:20260227T070000Z
DTEND:20260227T084000Z
SUMMARY:Операционный менеджмент
LOCATION:50 уч.к 1432
END:VEVENT
BEGIN:VEVENT
UID:d181@192.168.245.71:3006
SEQUENCE:0
DTSTAMP:20260422T081749Z
DTSTART:20260227T090000Z
DTEND:20260227T104000Z
SUMMARY:Операционный менеджмент
LOCATION:50 уч.к 1206
END:VEVENT
BEGIN:VEVENT
UID:qxny@192.168.245.71:3006
SEQUENCE:0
DTSTAMP:20260422T081749Z
DTSTART:20260227T110000Z
DTEND:20260227T124000Z
SUMMARY:Маркетинговые исследования
LOCATION:50 уч.к 1336
END:VEVENT
BEGIN:VEVENT
UID:o5hs@192.168.245.71:3006
SEQUENCE:0
DTSTAMP:20260422T081749Z
DTSTART:20260227T150000Z
DTEND:20260227T164000Z
SUMMARY:Карьерная адаптивность
LOCATION:50 уч.к 1226
END:VEVENT
END:VCALENDAR