BEGIN:VCALENDAR
VERSION:2.0
PRODID:-//spbstu.ru//ical//RU
NAME:Расписание группы 3733802/30801
X-WR-CALNAME:Расписание группы 3733802/30801
TIMEZONE-ID:Europe/Moscow
X-WR-TIMEZONE:Europe/Moscow
BEGIN:VEVENT
UID:7gon@192.168.245.71:3006
SEQUENCE:0
DTSTAMP:20260422T063705Z
DTSTART:20260303T110000Z
DTEND:20260303T124000Z
SUMMARY:Глобальная логистика
LOCATION:50 уч.к 1112
END:VEVENT
BEGIN:VEVENT
UID:cv8q@192.168.245.71:3006
SEQUENCE:0
DTSTAMP:20260422T063705Z
DTSTART:20260303T130000Z
DTEND:20260303T144000Z
SUMMARY:Глобальная логистика
LOCATION:50 уч.к 1112
END:VEVENT
BEGIN:VEVENT
UID:i8hm@192.168.245.71:3006
SEQUENCE:0
DTSTAMP:20260422T063705Z
DTSTART:20260304T090000Z
DTEND:20260304T104000Z
SUMMARY:Технико-экономический анализ
LOCATION:50 уч.к 1432
END:VEVENT
BEGIN:VEVENT
UID:7qrq@192.168.245.71:3006
SEQUENCE:0
DTSTAMP:20260422T063705Z
DTSTART:20260304T110000Z
DTEND:20260304T124000Z
SUMMARY:Карьерная адаптивность: Управление активами и стоимостью организац
 ии в условиях экономической нестабильности
LOCATION:50 уч.к 1432
END:VEVENT
BEGIN:VEVENT
UID:fx6r@192.168.245.71:3006
SEQUENCE:0
DTSTAMP:20260422T063705Z
DTSTART:20260304T110000Z
DTEND:20260304T124000Z
SUMMARY:Карьерная адаптивность: Применение инструментов гибкого управления
  для формирования навыков менеджеров будущего
LOCATION:50 уч.к 1245
END:VEVENT
BEGIN:VEVENT
UID:hnpe@192.168.245.71:3006
SEQUENCE:0
DTSTAMP:20260422T063705Z
DTSTART:20260304T130000Z
DTEND:20260304T144000Z
SUMMARY:Карьерная адаптивность: Применение инструментов гибкого управления
  для формирования навыков менеджеров будущего
LOCATION:50 уч.к 1319
END:VEVENT
BEGIN:VEVENT
UID:70kg@192.168.245.71:3006
SEQUENCE:0
DTSTAMP:20260422T063705Z
DTSTART:20260304T130000Z
DTEND:20260304T144000Z
SUMMARY:Карьерная адаптивность: Управление активами и стоимостью организац
 ии в условиях экономической нестабильности
LOCATION:50 уч.к 1324
END:VEVENT
BEGIN:VEVENT
UID:zv2d@192.168.245.71:3006
SEQUENCE:0
DTSTAMP:20260422T063705Z
DTSTART:20260305T070000Z
DTEND:20260305T084000Z
SUMMARY:Брендинг и рекламный дизайн 
LOCATION:50 уч.к 1205
END:VEVENT
BEGIN:VEVENT
UID:cjhc@192.168.245.71:3006
SEQUENCE:0
DTSTAMP:20260422T063705Z
DTSTART:20260305T090000Z
DTEND:20260305T104000Z
SUMMARY:Брендинг и рекламный дизайн 
LOCATION:50 уч.к 1205
END:VEVENT
BEGIN:VEVENT
UID:tqwt@192.168.245.71:3006
SEQUENCE:0
DTSTAMP:20260422T063705Z
DTSTART:20260305T110000Z
DTEND:20260305T124000Z
SUMMARY:Брендинг и рекламный дизайн 
LOCATION:50 уч.к 1205
END:VEVENT
BEGIN:VEVENT
UID:8tsw@192.168.245.71:3006
SEQUENCE:0
DTSTAMP:20260422T063705Z
DTSTART:20260305T130000Z
DTEND:20260305T144000Z
SUMMARY:Инвестиционный анализ
LOCATION:50 уч.к 1336
END:VEVENT
BEGIN:VEVENT
UID:xgwa@192.168.245.71:3006
SEQUENCE:0
DTSTAMP:20260422T063705Z
DTSTART:20260306T090000Z
DTEND:20260306T104000Z
SUMMARY:Маркетинговые исследования
LOCATION:50 уч.к 1230
END:VEVENT
BEGIN:VEVENT
UID:iyub@192.168.245.71:3006
SEQUENCE:0
DTSTAMP:20260422T063705Z
DTSTART:20260306T110000Z
DTEND:20260306T124000Z
SUMMARY:Маркетинговые исследования
LOCATION:50 уч.к 1336
END:VEVENT
END:VCALENDAR