BEGIN:VCALENDAR
VERSION:2.0
PRODID:-//spbstu.ru//ical//RU
NAME:Расписание группы 3733802/30801
X-WR-CALNAME:Расписание группы 3733802/30801
TIMEZONE-ID:Europe/Moscow
X-WR-TIMEZONE:Europe/Moscow
BEGIN:VEVENT
UID:bd94@192.168.245.71:3006
SEQUENCE:0
DTSTAMP:20260422T014221Z
DTSTART:20260310T110000Z
DTEND:20260310T124000Z
SUMMARY:Глобальная логистика
LOCATION:50 уч.к 1112
END:VEVENT
BEGIN:VEVENT
UID:eg6z@192.168.245.71:3006
SEQUENCE:0
DTSTAMP:20260422T014221Z
DTSTART:20260310T130000Z
DTEND:20260310T144000Z
SUMMARY:Глобальная логистика
LOCATION:50 уч.к 1112
END:VEVENT
BEGIN:VEVENT
UID:js5d@192.168.245.71:3006
SEQUENCE:0
DTSTAMP:20260422T014221Z
DTSTART:20260311T070000Z
DTEND:20260311T084000Z
SUMMARY:Методы и модели прогнозирования
LOCATION:50 уч.к 1421
END:VEVENT
BEGIN:VEVENT
UID:u5ma@192.168.245.71:3006
SEQUENCE:0
DTSTAMP:20260422T014221Z
DTSTART:20260311T090000Z
DTEND:20260311T104000Z
SUMMARY:Методы и модели прогнозирования
LOCATION:50 уч.к 1336
END:VEVENT
BEGIN:VEVENT
UID:qv4a@192.168.245.71:3006
SEQUENCE:0
DTSTAMP:20260422T014221Z
DTSTART:20260311T110000Z
DTEND:20260311T124000Z
SUMMARY:Карьерная адаптивность: Управление активами и стоимостью организац
 ии в условиях экономической нестабильности
LOCATION:50 уч.к 1432
END:VEVENT
BEGIN:VEVENT
UID:43ty@192.168.245.71:3006
SEQUENCE:0
DTSTAMP:20260422T014221Z
DTSTART:20260311T110000Z
DTEND:20260311T124000Z
SUMMARY:Карьерная адаптивность: Применение инструментов гибкого управления
  для формирования навыков менеджеров будущего
LOCATION:50 уч.к 1245
END:VEVENT
BEGIN:VEVENT
UID:ezm9@192.168.245.71:3006
SEQUENCE:0
DTSTAMP:20260422T014221Z
DTSTART:20260311T130000Z
DTEND:20260311T144000Z
SUMMARY:Карьерная адаптивность: Применение инструментов гибкого управления
  для формирования навыков менеджеров будущего
LOCATION:50 уч.к 1319
END:VEVENT
BEGIN:VEVENT
UID:aqk7@192.168.245.71:3006
SEQUENCE:0
DTSTAMP:20260422T014221Z
DTSTART:20260311T130000Z
DTEND:20260311T144000Z
SUMMARY:Карьерная адаптивность: Управление активами и стоимостью организац
 ии в условиях экономической нестабильности
LOCATION:50 уч.к 1324
END:VEVENT
BEGIN:VEVENT
UID:aakm@192.168.245.71:3006
SEQUENCE:0
DTSTAMP:20260422T014221Z
DTSTART:20260312T110000Z
DTEND:20260312T124000Z
SUMMARY:Инвестиционный анализ
LOCATION:50 уч.к 1214
END:VEVENT
BEGIN:VEVENT
UID:yohy@192.168.245.71:3006
SEQUENCE:0
DTSTAMP:20260422T014221Z
DTSTART:20260312T130000Z
DTEND:20260312T144000Z
SUMMARY:Технико-экономический анализ
LOCATION:50 уч.к 1214
END:VEVENT
BEGIN:VEVENT
UID:2djg@192.168.245.71:3006
SEQUENCE:0
DTSTAMP:20260422T014221Z
DTSTART:20260313T070000Z
DTEND:20260313T084000Z
SUMMARY:Операционный менеджмент
LOCATION:50 уч.к 1432
END:VEVENT
BEGIN:VEVENT
UID:6jkt@192.168.245.71:3006
SEQUENCE:0
DTSTAMP:20260422T014221Z
DTSTART:20260313T090000Z
DTEND:20260313T104000Z
SUMMARY:Операционный менеджмент
LOCATION:50 уч.к 1206
END:VEVENT
BEGIN:VEVENT
UID:d945@192.168.245.71:3006
SEQUENCE:0
DTSTAMP:20260422T014221Z
DTSTART:20260313T110000Z
DTEND:20260313T124000Z
SUMMARY:Маркетинговые исследования
LOCATION:50 уч.к 1336
END:VEVENT
END:VCALENDAR