BEGIN:VCALENDAR
VERSION:2.0
PRODID:-//spbstu.ru//ical//RU
NAME:Расписание группы 3733802/30901
X-WR-CALNAME:Расписание группы 3733802/30901
TIMEZONE-ID:Europe/Moscow
X-WR-TIMEZONE:Europe/Moscow
BEGIN:VEVENT
UID:7vl0@192.168.245.71:3006
SEQUENCE:0
DTSTAMP:20260424T064007Z
DTSTART:20251125T070000Z
DTEND:20251125T084000Z
SUMMARY:Глобальная логистика
LOCATION:50 уч.к 1421
END:VEVENT
BEGIN:VEVENT
UID:efbx@192.168.245.71:3006
SEQUENCE:0
DTSTAMP:20260424T064007Z
DTSTART:20251125T090000Z
DTEND:20251125T104000Z
SUMMARY:Глобальная логистика
LOCATION:50 уч.к 1331
END:VEVENT
BEGIN:VEVENT
UID:95g5@192.168.245.71:3006
SEQUENCE:0
DTSTAMP:20260424T064007Z
DTSTART:20251125T110000Z
DTEND:20251125T124000Z
SUMMARY:Стратегический менеджмент
LOCATION:50 уч.к 1115
END:VEVENT
BEGIN:VEVENT
UID:1dmt@192.168.245.71:3006
SEQUENCE:0
DTSTAMP:20260424T064007Z
DTSTART:20251125T130000Z
DTEND:20251125T144000Z
SUMMARY:Ресурсный менеджмент
LOCATION:50 уч.к 1113
END:VEVENT
BEGIN:VEVENT
UID:n1ca@192.168.245.71:3006
SEQUENCE:0
DTSTAMP:20260424T064007Z
DTSTART:20251126T090000Z
DTEND:20251126T104000Z
SUMMARY:Продвижение бизнеса на основе видеоконтента
LOCATION:50 уч.к 1111
END:VEVENT
BEGIN:VEVENT
UID:bppx@192.168.245.71:3006
SEQUENCE:0
DTSTAMP:20260424T064007Z
DTSTART:20251126T110000Z
DTEND:20251126T124000Z
SUMMARY:Предпринимательство
LOCATION:50 уч.к 1111
END:VEVENT
BEGIN:VEVENT
UID:3ht7@192.168.245.71:3006
SEQUENCE:0
DTSTAMP:20260424T064007Z
DTSTART:20251127T090000Z
DTEND:20251127T104000Z
SUMMARY:Стратегический менеджмент
LOCATION:ГЗ 237
END:VEVENT
BEGIN:VEVENT
UID:yun8@192.168.245.71:3006
SEQUENCE:0
DTSTAMP:20260424T064007Z
DTSTART:20251127T130000Z
DTEND:20251127T144000Z
SUMMARY:Иностранный язык. Профессионально-ориентированный курс
LOCATION:16 к. 411
END:VEVENT
BEGIN:VEVENT
UID:q6x7@192.168.245.71:3006
SEQUENCE:0
DTSTAMP:20260424T064007Z
DTSTART:20251128T110000Z
DTEND:20251128T124000Z
SUMMARY:Карьерная адаптивность: Практики современного маркетинга
LOCATION:50 уч.к 1105
END:VEVENT
BEGIN:VEVENT
UID:vbka@192.168.245.71:3006
SEQUENCE:0
DTSTAMP:20260424T064007Z
DTSTART:20251128T110000Z
DTEND:20251128T124000Z
SUMMARY:Карьерная адаптивность: Управление активами и стоимостью организац
 ии в условиях экономической нестабильности
LOCATION:50 уч.к 1111
END:VEVENT
BEGIN:VEVENT
UID:6ixo@192.168.245.71:3006
SEQUENCE:0
DTSTAMP:20260424T064007Z
DTSTART:20251128T110000Z
DTEND:20251128T124000Z
SUMMARY:Карьерная адаптивность: Правовые основы построения индивидуальной 
 карьерной траектории
LOCATION:50 уч.к 1323
END:VEVENT
BEGIN:VEVENT
UID:o49w@192.168.245.71:3006
SEQUENCE:0
DTSTAMP:20260424T064007Z
DTSTART:20251128T150000Z
DTEND:20251128T164000Z
SUMMARY:Русский язык как иностранный: Профессионально-ориентированный курс
LOCATION:16 к. 413
END:VEVENT
BEGIN:VEVENT
UID:39fw@192.168.245.71:3006
SEQUENCE:0
DTSTAMP:20260424T064007Z
DTSTART:20251129T050000Z
DTEND:20251129T064000Z
SUMMARY:Русский язык как иностранный: Профессионально-ориентированный курс
LOCATION:16 к. 411
END:VEVENT
BEGIN:VEVENT
UID:ucbi@192.168.245.71:3006
SEQUENCE:0
DTSTAMP:20260424T064007Z
DTSTART:20251129T110000Z
DTEND:20251129T124000Z
SUMMARY:Математические методы в экономике и управлении
LOCATION:50 уч.к 1101
END:VEVENT
BEGIN:VEVENT
UID:50w5@192.168.245.71:3006
SEQUENCE:0
DTSTAMP:20260424T064007Z
DTSTART:20251129T130000Z
DTEND:20251129T144000Z
SUMMARY:Предпринимательство
LOCATION:50 уч.к 1113
END:VEVENT
END:VCALENDAR