BEGIN:VCALENDAR
VERSION:2.0
PRODID:-//spbstu.ru//ical//RU
NAME:Расписание группы 3733802/30901
X-WR-CALNAME:Расписание группы 3733802/30901
TIMEZONE-ID:Europe/Moscow
X-WR-TIMEZONE:Europe/Moscow
BEGIN:VEVENT
UID:exgk@192.168.245.71:3006
SEQUENCE:0
DTSTAMP:20260424T025625Z
DTSTART:20251202T070000Z
DTEND:20251202T084000Z
SUMMARY:Глобальная логистика
LOCATION:50 уч.к 1421
END:VEVENT
BEGIN:VEVENT
UID:3grt@192.168.245.71:3006
SEQUENCE:0
DTSTAMP:20260424T025625Z
DTSTART:20251202T090000Z
DTEND:20251202T104000Z
SUMMARY:Глобальная логистика
LOCATION:50 уч.к 1331
END:VEVENT
BEGIN:VEVENT
UID:7r20@192.168.245.71:3006
SEQUENCE:0
DTSTAMP:20260424T025625Z
DTSTART:20251202T110000Z
DTEND:20251202T124000Z
SUMMARY:Стратегический менеджмент
LOCATION:50 уч.к 1115
END:VEVENT
BEGIN:VEVENT
UID:id9a@192.168.245.71:3006
SEQUENCE:0
DTSTAMP:20260424T025625Z
DTSTART:20251202T130000Z
DTEND:20251202T144000Z
SUMMARY:Ресурсный менеджмент
LOCATION:50 уч.к 1113
END:VEVENT
BEGIN:VEVENT
UID:de4u@192.168.245.71:3006
SEQUENCE:0
DTSTAMP:20260424T025625Z
DTSTART:20251203T090000Z
DTEND:20251203T104000Z
SUMMARY:Ресурсный менеджмент
LOCATION:50 уч.к 1111
END:VEVENT
BEGIN:VEVENT
UID:v8ni@192.168.245.71:3006
SEQUENCE:0
DTSTAMP:20260424T025625Z
DTSTART:20251203T110000Z
DTEND:20251203T124000Z
SUMMARY:Предпринимательство
LOCATION:50 уч.к 1111
END:VEVENT
BEGIN:VEVENT
UID:3f6d@192.168.245.71:3006
SEQUENCE:0
DTSTAMP:20260424T025625Z
DTSTART:20251203T130000Z
DTEND:20251203T144000Z
SUMMARY:Предпринимательство
LOCATION:50 уч.к 1101
END:VEVENT
BEGIN:VEVENT
UID:r8yi@192.168.245.71:3006
SEQUENCE:0
DTSTAMP:20260424T025625Z
DTSTART:20251204T070000Z
DTEND:20251204T084000Z
SUMMARY:Математические методы в экономике и управлении
LOCATION:ГЗ 215
END:VEVENT
BEGIN:VEVENT
UID:30h3@192.168.245.71:3006
SEQUENCE:0
DTSTAMP:20260424T025625Z
DTSTART:20251204T090000Z
DTEND:20251204T104000Z
SUMMARY:Стратегический менеджмент
LOCATION:ГЗ 237
END:VEVENT
BEGIN:VEVENT
UID:k5m5@192.168.245.71:3006
SEQUENCE:0
DTSTAMP:20260424T025625Z
DTSTART:20251204T110000Z
DTEND:20251204T124000Z
SUMMARY:Иностранный язык. Профессионально-ориентированный курс
LOCATION:16 к. 411
END:VEVENT
BEGIN:VEVENT
UID:mm1z@192.168.245.71:3006
SEQUENCE:0
DTSTAMP:20260424T025625Z
DTSTART:20251204T130000Z
DTEND:20251204T144000Z
SUMMARY:Иностранный язык. Профессионально-ориентированный курс
LOCATION:16 к. 411
END:VEVENT
BEGIN:VEVENT
UID:xu8g@192.168.245.71:3006
SEQUENCE:0
DTSTAMP:20260424T025625Z
DTSTART:20251205T070000Z
DTEND:20251205T084000Z
SUMMARY:Продвижение бизнеса на основе видеоконтента
LOCATION:50 уч.к 1248
END:VEVENT
BEGIN:VEVENT
UID:k6y9@192.168.245.71:3006
SEQUENCE:0
DTSTAMP:20260424T025625Z
DTSTART:20251205T090000Z
DTEND:20251205T104000Z
SUMMARY:Управление инновациями
LOCATION:50 уч.к 1432
END:VEVENT
BEGIN:VEVENT
UID:trod@192.168.245.71:3006
SEQUENCE:0
DTSTAMP:20260424T025625Z
DTSTART:20251205T110000Z
DTEND:20251205T124000Z
SUMMARY:Управление инновациями
LOCATION:50 уч.к 1248
END:VEVENT
BEGIN:VEVENT
UID:6fhm@192.168.245.71:3006
SEQUENCE:0
DTSTAMP:20260424T025625Z
DTSTART:20251205T130000Z
DTEND:20251205T144000Z
SUMMARY:Карьерная адаптивность: Правовые основы построения индивидуальной 
 карьерной траектории
LOCATION:DL Дистанционно
END:VEVENT
BEGIN:VEVENT
UID:v3ff@192.168.245.71:3006
SEQUENCE:0
DTSTAMP:20260424T025625Z
DTSTART:20251205T130000Z
DTEND:20251205T144000Z
SUMMARY:Карьерная адаптивность: Правовые основы построения индивидуальной 
 карьерной траектории
LOCATION:DL Дистанционно
END:VEVENT
BEGIN:VEVENT
UID:fjdt@192.168.245.71:3006
SEQUENCE:0
DTSTAMP:20260424T025625Z
DTSTART:20251205T130000Z
DTEND:20251205T144000Z
SUMMARY:Карьерная адаптивность: Практики современного маркетинга
LOCATION:DL Дистанционно
END:VEVENT
BEGIN:VEVENT
UID:1vtq@192.168.245.71:3006
SEQUENCE:0
DTSTAMP:20260424T025625Z
DTSTART:20251205T130000Z
DTEND:20251205T144000Z
SUMMARY:Карьерная адаптивность: Практики современного маркетинга
LOCATION:DL Дистанционно
END:VEVENT
BEGIN:VEVENT
UID:7gpx@192.168.245.71:3006
SEQUENCE:0
DTSTAMP:20260424T025625Z
DTSTART:20251205T130000Z
DTEND:20251205T144000Z
SUMMARY:Карьерная адаптивность: Управление активами и стоимостью организац
 ии в условиях экономической нестабильности
LOCATION:DL Дистанционно
END:VEVENT
BEGIN:VEVENT
UID:o8c6@192.168.245.71:3006
SEQUENCE:0
DTSTAMP:20260424T025625Z
DTSTART:20251205T130000Z
DTEND:20251205T144000Z
SUMMARY:Карьерная адаптивность: Управление активами и стоимостью организац
 ии в условиях экономической нестабильности
LOCATION:DL Дистанционно
END:VEVENT
BEGIN:VEVENT
UID:ja4k@192.168.245.71:3006
SEQUENCE:0
DTSTAMP:20260424T025625Z
DTSTART:20251206T050000Z
DTEND:20251206T064000Z
SUMMARY:Русский язык как иностранный: Профессионально-ориентированный курс
LOCATION:16 к. 411
END:VEVENT
BEGIN:VEVENT
UID:wkqt@192.168.245.71:3006
SEQUENCE:0
DTSTAMP:20260424T025625Z
DTSTART:20251206T110000Z
DTEND:20251206T124000Z
SUMMARY:Математические методы в экономике и управлении
LOCATION:50 уч.к 1101
END:VEVENT
BEGIN:VEVENT
UID:8nd5@192.168.245.71:3006
SEQUENCE:0
DTSTAMP:20260424T025625Z
DTSTART:20251206T130000Z
DTEND:20251206T144000Z
SUMMARY:Предпринимательство
LOCATION:50 уч.к 1113
END:VEVENT
END:VCALENDAR