BEGIN:VCALENDAR
VERSION:2.0
PRODID:-//spbstu.ru//ical//RU
NAME:Расписание группы 3733802/30901
X-WR-CALNAME:Расписание группы 3733802/30901
TIMEZONE-ID:Europe/Moscow
X-WR-TIMEZONE:Europe/Moscow
BEGIN:VEVENT
UID:o1kn@192.168.245.71:3006
SEQUENCE:0
DTSTAMP:20260423T145405Z
DTSTART:20251229T090000Z
DTEND:20251229T113000Z
SUMMARY:Предпринимательство
LOCATION:50 уч.к 1104
END:VEVENT
END:VCALENDAR