BEGIN:VCALENDAR
VERSION:2.0
PRODID:-//spbstu.ru//ical//RU
NAME:Расписание группы 3733802/30901
X-WR-CALNAME:Расписание группы 3733802/30901
TIMEZONE-ID:Europe/Moscow
X-WR-TIMEZONE:Europe/Moscow
BEGIN:VEVENT
UID:qbk0@192.168.245.71:3006
SEQUENCE:0
DTSTAMP:20260424T025544Z
DTSTART:20251209T070000Z
DTEND:20251209T084000Z
SUMMARY:Глобальная логистика
LOCATION:50 уч.к 1421
END:VEVENT
BEGIN:VEVENT
UID:2xzb@192.168.245.71:3006
SEQUENCE:0
DTSTAMP:20260424T025544Z
DTSTART:20251209T090000Z
DTEND:20251209T104000Z
SUMMARY:Глобальная логистика
LOCATION:50 уч.к 1331
END:VEVENT
BEGIN:VEVENT
UID:f5h4@192.168.245.71:3006
SEQUENCE:0
DTSTAMP:20260424T025544Z
DTSTART:20251209T110000Z
DTEND:20251209T124000Z
SUMMARY:Стратегический менеджмент
LOCATION:50 уч.к 1115
END:VEVENT
BEGIN:VEVENT
UID:tk6w@192.168.245.71:3006
SEQUENCE:0
DTSTAMP:20260424T025544Z
DTSTART:20251209T130000Z
DTEND:20251209T144000Z
SUMMARY:Ресурсный менеджмент
LOCATION:50 уч.к 1113
END:VEVENT
BEGIN:VEVENT
UID:gr2a@192.168.245.71:3006
SEQUENCE:0
DTSTAMP:20260424T025544Z
DTSTART:20251210T090000Z
DTEND:20251210T104000Z
SUMMARY:Глобальная логистика
LOCATION:50 уч.к 1423
END:VEVENT
BEGIN:VEVENT
UID:yn6y@192.168.245.71:3006
SEQUENCE:0
DTSTAMP:20260424T025544Z
DTSTART:20251210T110000Z
DTEND:20251210T124000Z
SUMMARY:Предпринимательство
LOCATION:50 уч.к 1111
END:VEVENT
BEGIN:VEVENT
UID:pow1@192.168.245.71:3006
SEQUENCE:0
DTSTAMP:20260424T025544Z
DTSTART:20251211T090000Z
DTEND:20251211T104000Z
SUMMARY:Стратегический менеджмент
LOCATION:ГЗ 237
END:VEVENT
BEGIN:VEVENT
UID:kx2l@192.168.245.71:3006
SEQUENCE:0
DTSTAMP:20260424T025544Z
DTSTART:20251211T130000Z
DTEND:20251211T144000Z
SUMMARY:Иностранный язык. Профессионально-ориентированный курс
LOCATION:16 к. 411
END:VEVENT
BEGIN:VEVENT
UID:38s4@192.168.245.71:3006
SEQUENCE:0
DTSTAMP:20260424T025544Z
DTSTART:20251212T110000Z
DTEND:20251212T124000Z
SUMMARY:Карьерная адаптивность: Практики современного маркетинга
LOCATION:50 уч.к 1105
END:VEVENT
BEGIN:VEVENT
UID:m7gz@192.168.245.71:3006
SEQUENCE:0
DTSTAMP:20260424T025544Z
DTSTART:20251212T110000Z
DTEND:20251212T124000Z
SUMMARY:Карьерная адаптивность: Управление активами и стоимостью организац
 ии в условиях экономической нестабильности
LOCATION:50 уч.к 1111
END:VEVENT
BEGIN:VEVENT
UID:1byg@192.168.245.71:3006
SEQUENCE:0
DTSTAMP:20260424T025544Z
DTSTART:20251212T110000Z
DTEND:20251212T124000Z
SUMMARY:Карьерная адаптивность: Правовые основы построения индивидуальной 
 карьерной траектории
LOCATION:50 уч.к 1323
END:VEVENT
BEGIN:VEVENT
UID:biiv@192.168.245.71:3006
SEQUENCE:0
DTSTAMP:20260424T025544Z
DTSTART:20251212T150000Z
DTEND:20251212T164000Z
SUMMARY:Русский язык как иностранный: Профессионально-ориентированный курс
LOCATION:16 к. 413
END:VEVENT
BEGIN:VEVENT
UID:fqh5@192.168.245.71:3006
SEQUENCE:0
DTSTAMP:20260424T025544Z
DTSTART:20251213T050000Z
DTEND:20251213T064000Z
SUMMARY:Русский язык как иностранный: Профессионально-ориентированный курс
LOCATION:16 к. 411
END:VEVENT
BEGIN:VEVENT
UID:zxz0@192.168.245.71:3006
SEQUENCE:0
DTSTAMP:20260424T025544Z
DTSTART:20251213T110000Z
DTEND:20251213T124000Z
SUMMARY:Математические методы в экономике и управлении
LOCATION:50 уч.к 1101
END:VEVENT
BEGIN:VEVENT
UID:eiaw@192.168.245.71:3006
SEQUENCE:0
DTSTAMP:20260424T025544Z
DTSTART:20251213T130000Z
DTEND:20251213T144000Z
SUMMARY:Предпринимательство
LOCATION:50 уч.к 1113
END:VEVENT
END:VCALENDAR