BEGIN:VCALENDAR
VERSION:2.0
PRODID:-//spbstu.ru//ical//RU
NAME:Расписание группы 3733802/30901
X-WR-CALNAME:Расписание группы 3733802/30901
TIMEZONE-ID:Europe/Moscow
X-WR-TIMEZONE:Europe/Moscow
BEGIN:VEVENT
UID:dzt2@192.168.245.71:3006
SEQUENCE:0
DTSTAMP:20260422T191205Z
DTSTART:20260209T070000Z
DTEND:20260209T084000Z
SUMMARY:Технико-экономический анализ
LOCATION:50 уч.к 1428
END:VEVENT
BEGIN:VEVENT
UID:jhfo@192.168.245.71:3006
SEQUENCE:0
DTSTAMP:20260422T191205Z
DTSTART:20260209T090000Z
DTEND:20260209T104000Z
SUMMARY:Транспортная логистика
LOCATION:50 уч.к 1112
END:VEVENT
BEGIN:VEVENT
UID:znm1@192.168.245.71:3006
SEQUENCE:0
DTSTAMP:20260422T191205Z
DTSTART:20260210T050000Z
DTEND:20260210T064000Z
SUMMARY:Цифровая логистика
LOCATION:50 уч.к 1112
END:VEVENT
BEGIN:VEVENT
UID:btjm@192.168.245.71:3006
SEQUENCE:0
DTSTAMP:20260422T191205Z
DTSTART:20260210T070000Z
DTEND:20260210T084000Z
SUMMARY:Закупочная логистика
LOCATION:50 уч.к 1112
END:VEVENT
BEGIN:VEVENT
UID:0a4v@192.168.245.71:3006
SEQUENCE:0
DTSTAMP:20260422T191205Z
DTSTART:20260210T090000Z
DTEND:20260210T104000Z
SUMMARY:Транспортная логистика
LOCATION:50 уч.к 1109
END:VEVENT
BEGIN:VEVENT
UID:uks5@192.168.245.71:3006
SEQUENCE:0
DTSTAMP:20260422T191205Z
DTSTART:20260211T110000Z
DTEND:20260211T124000Z
SUMMARY:Карьерная адаптивность: Применение инструментов гибкого управления
  для формирования навыков менеджеров будущего
LOCATION:50 уч.к 1245
END:VEVENT
BEGIN:VEVENT
UID:gb7v@192.168.245.71:3006
SEQUENCE:0
DTSTAMP:20260422T191205Z
DTSTART:20260211T110000Z
DTEND:20260211T124000Z
SUMMARY:Карьерная адаптивность: Практики современного маркетинга
LOCATION:50 уч.к 1341
END:VEVENT
BEGIN:VEVENT
UID:mrgr@192.168.245.71:3006
SEQUENCE:0
DTSTAMP:20260422T191205Z
DTSTART:20260211T130000Z
DTEND:20260211T144000Z
SUMMARY:Карьерная адаптивность: Практики современного маркетинга
LOCATION:50 уч.к 1325
END:VEVENT
BEGIN:VEVENT
UID:11rh@192.168.245.71:3006
SEQUENCE:0
DTSTAMP:20260422T191205Z
DTSTART:20260211T130000Z
DTEND:20260211T144000Z
SUMMARY:Карьерная адаптивность: Применение инструментов гибкого управления
  для формирования навыков менеджеров будущего
LOCATION:50 уч.к 1319
END:VEVENT
BEGIN:VEVENT
UID:g8k5@192.168.245.71:3006
SEQUENCE:0
DTSTAMP:20260422T191205Z
DTSTART:20260212T090000Z
DTEND:20260212T104000Z
SUMMARY:Инвестиционный анализ
LOCATION:50 уч.к 1103
END:VEVENT
BEGIN:VEVENT
UID:rg1e@192.168.245.71:3006
SEQUENCE:0
DTSTAMP:20260422T191205Z
DTSTART:20260212T110000Z
DTEND:20260212T124000Z
SUMMARY:Инвестиционный анализ
LOCATION:50 уч.к 1214
END:VEVENT
BEGIN:VEVENT
UID:02go@192.168.245.71:3006
SEQUENCE:0
DTSTAMP:20260422T191205Z
DTSTART:20260212T130000Z
DTEND:20260212T144000Z
SUMMARY:Технико-экономический анализ
LOCATION:50 уч.к 1214
END:VEVENT
BEGIN:VEVENT
UID:sbm0@192.168.245.71:3006
SEQUENCE:0
DTSTAMP:20260422T191205Z
DTSTART:20260213T070000Z
DTEND:20260213T084000Z
SUMMARY:Операционный менеджмент
LOCATION:50 уч.к 1432
END:VEVENT
BEGIN:VEVENT
UID:vnw4@192.168.245.71:3006
SEQUENCE:0
DTSTAMP:20260422T191205Z
DTSTART:20260213T090000Z
DTEND:20260213T104000Z
SUMMARY:Закупочная логистика
LOCATION:50 уч.к 1112
END:VEVENT
BEGIN:VEVENT
UID:wkxi@192.168.245.71:3006
SEQUENCE:0
DTSTAMP:20260422T191205Z
DTSTART:20260213T110000Z
DTEND:20260213T124000Z
SUMMARY:Операционный менеджмент
LOCATION:50 уч.к 1206
END:VEVENT
END:VCALENDAR