BEGIN:VCALENDAR
VERSION:2.0
PRODID:-//spbstu.ru//ical//RU
NAME:Расписание группы 3733802/30901
X-WR-CALNAME:Расписание группы 3733802/30901
TIMEZONE-ID:Europe/Moscow
X-WR-TIMEZONE:Europe/Moscow
BEGIN:VEVENT
UID:xene@192.168.245.71:3006
SEQUENCE:0
DTSTAMP:20260422T014709Z
DTSTART:20260413T090000Z
DTEND:20260413T104000Z
SUMMARY:Транспортная логистика
LOCATION:50 уч.к 1112
END:VEVENT
BEGIN:VEVENT
UID:qx71@192.168.245.71:3006
SEQUENCE:0
DTSTAMP:20260422T014709Z
DTSTART:20260414T050000Z
DTEND:20260414T064000Z
SUMMARY:Цифровая логистика
LOCATION:50 уч.к 1112
END:VEVENT
BEGIN:VEVENT
UID:eytb@192.168.245.71:3006
SEQUENCE:0
DTSTAMP:20260422T014709Z
DTSTART:20260414T070000Z
DTEND:20260414T084000Z
SUMMARY:Закупочная логистика
LOCATION:50 уч.к 1112
END:VEVENT
BEGIN:VEVENT
UID:1jzz@192.168.245.71:3006
SEQUENCE:0
DTSTAMP:20260422T014709Z
DTSTART:20260415T110000Z
DTEND:20260415T124000Z
SUMMARY:Карьерная адаптивность: Применение инструментов гибкого управления
  для формирования навыков менеджеров будущего
LOCATION:50 уч.к 1245
END:VEVENT
BEGIN:VEVENT
UID:gs9l@192.168.245.71:3006
SEQUENCE:0
DTSTAMP:20260422T014709Z
DTSTART:20260415T110000Z
DTEND:20260415T124000Z
SUMMARY:Карьерная адаптивность: Практики современного маркетинга
LOCATION:50 уч.к 1341
END:VEVENT
BEGIN:VEVENT
UID:r4s4@192.168.245.71:3006
SEQUENCE:0
DTSTAMP:20260422T014709Z
DTSTART:20260415T110000Z
DTEND:20260415T124000Z
SUMMARY:Карьерная адаптивность: Управление активами и стоимостью организац
 ии в условиях экономической нестабильности
LOCATION:50 уч.к 1432
END:VEVENT
BEGIN:VEVENT
UID:2r7c@192.168.245.71:3006
SEQUENCE:0
DTSTAMP:20260422T014709Z
DTSTART:20260415T130000Z
DTEND:20260415T144000Z
SUMMARY:Карьерная адаптивность: Практики современного маркетинга
LOCATION:50 уч.к 1336
END:VEVENT
BEGIN:VEVENT
UID:sglp@192.168.245.71:3006
SEQUENCE:0
DTSTAMP:20260422T014709Z
DTSTART:20260415T130000Z
DTEND:20260415T144000Z
SUMMARY:Карьерная адаптивность: Управление активами и стоимостью организац
 ии в условиях экономической нестабильности
LOCATION:50 уч.к 1341
END:VEVENT
BEGIN:VEVENT
UID:fxug@192.168.245.71:3006
SEQUENCE:0
DTSTAMP:20260422T014709Z
DTSTART:20260415T130000Z
DTEND:20260415T144000Z
SUMMARY:Карьерная адаптивность: Применение инструментов гибкого управления
  для формирования навыков менеджеров будущего
LOCATION:50 уч.к 1319
END:VEVENT
BEGIN:VEVENT
UID:4pr5@192.168.245.71:3006
SEQUENCE:0
DTSTAMP:20260422T014709Z
DTSTART:20260417T090000Z
DTEND:20260417T104000Z
SUMMARY:Закупочная логистика
LOCATION:50 уч.к 1112
END:VEVENT
END:VCALENDAR