BEGIN:VCALENDAR
VERSION:2.0
PRODID:-//spbstu.ru//ical//RU
NAME:Расписание группы 3733802/32601
X-WR-CALNAME:Расписание группы 3733802/32601
TIMEZONE-ID:Europe/Moscow
X-WR-TIMEZONE:Europe/Moscow
BEGIN:VEVENT
UID:offp@192.168.245.71:3006
SEQUENCE:0
DTSTAMP:20260422T101321Z
DTSTART:20260224T090000Z
DTEND:20260224T104000Z
SUMMARY:Кросс-культурный  менеджмент (на английском языке)
LOCATION:50 уч.к 1426
END:VEVENT
BEGIN:VEVENT
UID:mk1v@192.168.245.71:3006
SEQUENCE:0
DTSTAMP:20260422T101321Z
DTSTART:20260224T110000Z
DTEND:20260224T124000Z
SUMMARY:Технико-экономический анализ (на английском языке)
LOCATION:50 уч.к 1426
END:VEVENT
BEGIN:VEVENT
UID:j6uk@192.168.245.71:3006
SEQUENCE:0
DTSTAMP:20260422T101321Z
DTSTART:20260224T130000Z
DTEND:20260224T144000Z
SUMMARY:Предпринимательское право (на английском языке)
LOCATION:50 уч.к 1428
END:VEVENT
BEGIN:VEVENT
UID:luw9@192.168.245.71:3006
SEQUENCE:0
DTSTAMP:20260422T101321Z
DTSTART:20260224T150000Z
DTEND:20260224T164000Z
SUMMARY:Продвижение бизнеса на основе видеоконтента (на английском языке)
LOCATION:50 уч.к 1107
END:VEVENT
BEGIN:VEVENT
UID:ttsh@192.168.245.71:3006
SEQUENCE:0
DTSTAMP:20260422T101321Z
DTSTART:20260225T130000Z
DTEND:20260225T144000Z
SUMMARY:Иностранный язык. Профессионально-ориентированный курс
LOCATION:16 к. 403
END:VEVENT
BEGIN:VEVENT
UID:0x97@192.168.245.71:3006
SEQUENCE:0
DTSTAMP:20260422T101321Z
DTSTART:20260226T050000Z
DTEND:20260226T064000Z
SUMMARY:Проектная работа по маркетингу (на английском языке)
LOCATION:50 уч.к 1428
END:VEVENT
BEGIN:VEVENT
UID:xmcx@192.168.245.71:3006
SEQUENCE:0
DTSTAMP:20260422T101321Z
DTSTART:20260226T070000Z
DTEND:20260226T084000Z
SUMMARY:Навыки публичного выступления (на английском языке)
LOCATION:50 уч.к 1428
END:VEVENT
BEGIN:VEVENT
UID:f5o9@192.168.245.71:3006
SEQUENCE:0
DTSTAMP:20260422T101321Z
DTSTART:20260226T150000Z
DTEND:20260226T164000Z
SUMMARY:Математические методы в экономике и управлении (на английском язык
 е)
LOCATION:15 к. 634
END:VEVENT
BEGIN:VEVENT
UID:uhnx@192.168.245.71:3006
SEQUENCE:0
DTSTAMP:20260422T101321Z
DTSTART:20260227T070000Z
DTEND:20260227T084000Z
SUMMARY:Геополитика и международные отношения (на английском языке)
LOCATION:50 уч.к 1428
END:VEVENT
BEGIN:VEVENT
UID:iice@192.168.245.71:3006
SEQUENCE:0
DTSTAMP:20260422T101321Z
DTSTART:20260227T090000Z
DTEND:20260227T104000Z
SUMMARY:Геополитика и международные отношения (на английском языке)
LOCATION:50 уч.к 1428
END:VEVENT
BEGIN:VEVENT
UID:7esv@192.168.245.71:3006
SEQUENCE:0
DTSTAMP:20260422T101321Z
DTSTART:20260228T070000Z
DTEND:20260228T084000Z
SUMMARY:Организационное поведение (на английском языке)
LOCATION:50 уч.к 1427
END:VEVENT
END:VCALENDAR