BEGIN:VCALENDAR
VERSION:2.0
PRODID:-//spbstu.ru//ical//RU
NAME:Расписание группы 3733802/32601
X-WR-CALNAME:Расписание группы 3733802/32601
TIMEZONE-ID:Europe/Moscow
X-WR-TIMEZONE:Europe/Moscow
BEGIN:VEVENT
UID:fyf7@192.168.245.71:3006
SEQUENCE:0
DTSTAMP:20260421T141805Z
DTSTART:20260518T050000Z
DTEND:20260518T064000Z
SUMMARY:Кросс-культурный  менеджмент (на английском языке)
LOCATION:50 уч.к 1425
END:VEVENT
BEGIN:VEVENT
UID:67zz@192.168.245.71:3006
SEQUENCE:0
DTSTAMP:20260421T141805Z
DTSTART:20260518T070000Z
DTEND:20260518T084000Z
SUMMARY:Навыки публичного выступления (на английском языке)
LOCATION:50 уч.к 1425
END:VEVENT
BEGIN:VEVENT
UID:d0bv@192.168.245.71:3006
SEQUENCE:0
DTSTAMP:20260421T141805Z
DTSTART:20260518T090000Z
DTEND:20260518T104000Z
SUMMARY:Предпринимательское право (на английском языке)
LOCATION:50 уч.к 1428
END:VEVENT
BEGIN:VEVENT
UID:5kg0@192.168.245.71:3006
SEQUENCE:0
DTSTAMP:20260421T141805Z
DTSTART:20260518T130000Z
DTEND:20260518T144000Z
SUMMARY:Русский язык
LOCATION:15 к. 420
END:VEVENT
BEGIN:VEVENT
UID:9c3e@192.168.245.71:3006
SEQUENCE:0
DTSTAMP:20260421T141805Z
DTSTART:20260519T090000Z
DTEND:20260519T104000Z
SUMMARY:Кросс-культурный  менеджмент (на английском языке)
LOCATION:50 уч.к 1426
END:VEVENT
BEGIN:VEVENT
UID:nk8f@192.168.245.71:3006
SEQUENCE:0
DTSTAMP:20260421T141805Z
DTSTART:20260519T110000Z
DTEND:20260519T124000Z
SUMMARY:Технико-экономический анализ (на английском языке)
LOCATION:50 уч.к 1426
END:VEVENT
BEGIN:VEVENT
UID:nwaz@192.168.245.71:3006
SEQUENCE:0
DTSTAMP:20260421T141805Z
DTSTART:20260519T130000Z
DTEND:20260519T144000Z
SUMMARY:Предпринимательское право (на английском языке)
LOCATION:50 уч.к 1428
END:VEVENT
BEGIN:VEVENT
UID:uu2r@192.168.245.71:3006
SEQUENCE:0
DTSTAMP:20260421T141805Z
DTSTART:20260520T110000Z
DTEND:20260520T124000Z
SUMMARY:Навыки публичного выступления (на английском языке)
LOCATION:50 уч.к 1428
END:VEVENT
BEGIN:VEVENT
UID:olg9@192.168.245.71:3006
SEQUENCE:0
DTSTAMP:20260421T141805Z
DTSTART:20260521T050000Z
DTEND:20260521T064000Z
SUMMARY:Навыки публичного выступления (на английском языке)
LOCATION:50 уч.к 1428
END:VEVENT
BEGIN:VEVENT
UID:krkc@192.168.245.71:3006
SEQUENCE:0
DTSTAMP:20260421T141805Z
DTSTART:20260521T070000Z
DTEND:20260521T084000Z
SUMMARY:Проектная работа по маркетингу (на английском языке)
LOCATION:50 уч.к 1428
END:VEVENT
BEGIN:VEVENT
UID:afjw@192.168.245.71:3006
SEQUENCE:0
DTSTAMP:20260421T141805Z
DTSTART:20260521T090000Z
DTEND:20260521T104000Z
SUMMARY:Проектная работа по маркетингу (на английском языке)
LOCATION:50 уч.к 1428
END:VEVENT
BEGIN:VEVENT
UID:0xfa@192.168.245.71:3006
SEQUENCE:0
DTSTAMP:20260421T141805Z
DTSTART:20260522T070000Z
DTEND:20260522T084000Z
SUMMARY:Геополитика и международные отношения (на английском языке)
LOCATION:50 уч.к 1428
END:VEVENT
BEGIN:VEVENT
UID:ajvm@192.168.245.71:3006
SEQUENCE:0
DTSTAMP:20260421T141805Z
DTSTART:20260522T090000Z
DTEND:20260522T104000Z
SUMMARY:Геополитика и международные отношения (на английском языке)
LOCATION:50 уч.к 1428
END:VEVENT
BEGIN:VEVENT
UID:xn7i@192.168.245.71:3006
SEQUENCE:0
DTSTAMP:20260421T141805Z
DTSTART:20260523T070000Z
DTEND:20260523T084000Z
SUMMARY:Организационное поведение (на английском языке)
LOCATION:50 уч.к 1427
END:VEVENT
END:VCALENDAR