BEGIN:VCALENDAR
VERSION:2.0
PRODID:-//spbstu.ru//ical//RU
NAME:Расписание группы 3733802/32602
X-WR-CALNAME:Расписание группы 3733802/32602
TIMEZONE-ID:Europe/Moscow
X-WR-TIMEZONE:Europe/Moscow
BEGIN:VEVENT
UID:h7rm@192.168.245.71:3006
SEQUENCE:0
DTSTAMP:20260424T051817Z
DTSTART:20260302T070000Z
DTEND:20260302T084000Z
SUMMARY:Корпоративная социальная ответственность (на английском языке)
LOCATION:50 уч.к 1425
END:VEVENT
BEGIN:VEVENT
UID:i7wd@192.168.245.71:3006
SEQUENCE:0
DTSTAMP:20260424T051817Z
DTSTART:20260302T110000Z
DTEND:20260302T124000Z
SUMMARY:Организационное поведение (на английском языке)
LOCATION:50 уч.к 1319
END:VEVENT
BEGIN:VEVENT
UID:vtqe@192.168.245.71:3006
SEQUENCE:0
DTSTAMP:20260424T051817Z
DTSTART:20260305T050000Z
DTEND:20260305T064000Z
SUMMARY:Проектная работа по маркетингу (на английском языке)
LOCATION:50 уч.к 1428
END:VEVENT
BEGIN:VEVENT
UID:cwt4@192.168.245.71:3006
SEQUENCE:0
DTSTAMP:20260424T051817Z
DTSTART:20260305T070000Z
DTEND:20260305T084000Z
SUMMARY:Навыки публичного выступления (на английском языке)
LOCATION:50 уч.к 1428
END:VEVENT
BEGIN:VEVENT
UID:q05a@192.168.245.71:3006
SEQUENCE:0
DTSTAMP:20260424T051817Z
DTSTART:20260305T090000Z
DTEND:20260305T104000Z
SUMMARY:Корпоративная социальная ответственность (на английском языке)
LOCATION:50 уч.к 1428
END:VEVENT
BEGIN:VEVENT
UID:2ac4@192.168.245.71:3006
SEQUENCE:0
DTSTAMP:20260424T051817Z
DTSTART:20260307T070000Z
DTEND:20260307T084000Z
SUMMARY:Второй иностранный язык: Испанский язык\, Английский
LOCATION:50 уч.к 1249
END:VEVENT
BEGIN:VEVENT
UID:y0v3@192.168.245.71:3006
SEQUENCE:0
DTSTAMP:20260424T051817Z
DTSTART:20260307T090000Z
DTEND:20260307T104000Z
SUMMARY:Второй иностранный язык: Испанский язык\, Английский
LOCATION:50 уч.к 1249
END:VEVENT
END:VCALENDAR