BEGIN:VCALENDAR
VERSION:2.0
PRODID:-//spbstu.ru//ical//RU
NAME:Расписание группы 3733802/33401
X-WR-CALNAME:Расписание группы 3733802/33401
TIMEZONE-ID:Europe/Moscow
X-WR-TIMEZONE:Europe/Moscow
BEGIN:VEVENT
UID:b213@192.168.245.71:3006
SEQUENCE:0
DTSTAMP:20260425T194258Z
DTSTART:20251027T070000Z
DTEND:20251027T084000Z
SUMMARY:Управление и аналитика данных на предприятии
LOCATION:50 уч.к 1211
END:VEVENT
BEGIN:VEVENT
UID:181a@192.168.245.71:3006
SEQUENCE:0
DTSTAMP:20260425T194258Z
DTSTART:20251027T090000Z
DTEND:20251027T104000Z
SUMMARY:Ресурсный менеджмент
LOCATION:50 уч.к 1424
END:VEVENT
BEGIN:VEVENT
UID:qwsr@192.168.245.71:3006
SEQUENCE:0
DTSTAMP:20260425T194258Z
DTSTART:20251027T110000Z
DTEND:20251027T124000Z
SUMMARY:Основы нефтегазового дела
LOCATION:50 уч.к 1318
END:VEVENT
BEGIN:VEVENT
UID:l8nc@192.168.245.71:3006
SEQUENCE:0
DTSTAMP:20260425T194258Z
DTSTART:20251027T130000Z
DTEND:20251027T144000Z
SUMMARY:Основы экономики и управления на нефтегазовых предприятиях
LOCATION:50 уч.к 1318
END:VEVENT
BEGIN:VEVENT
UID:7m45@192.168.245.71:3006
SEQUENCE:0
DTSTAMP:20260425T194258Z
DTSTART:20251028T110000Z
DTEND:20251028T124000Z
SUMMARY:Основы нефтегазового дела
LOCATION:50 уч.к 1211
END:VEVENT
BEGIN:VEVENT
UID:xwqq@192.168.245.71:3006
SEQUENCE:0
DTSTAMP:20260425T194258Z
DTSTART:20251028T130000Z
DTEND:20251028T144000Z
SUMMARY:Основы экономики и управления на нефтегазовых предприятиях
LOCATION:50 уч.к 1211
END:VEVENT
BEGIN:VEVENT
UID:uskv@192.168.245.71:3006
SEQUENCE:0
DTSTAMP:20260425T194258Z
DTSTART:20251029T070000Z
DTEND:20251029T084000Z
SUMMARY:Управление и аналитика данных на предприятии
LOCATION:50 уч.к 1338
END:VEVENT
BEGIN:VEVENT
UID:kiwz@192.168.245.71:3006
SEQUENCE:0
DTSTAMP:20260425T194258Z
DTSTART:20251029T090000Z
DTEND:20251029T104000Z
SUMMARY:Управление инновациями
LOCATION:50 уч.к 1432
END:VEVENT
BEGIN:VEVENT
UID:hpay@192.168.245.71:3006
SEQUENCE:0
DTSTAMP:20260425T194258Z
DTSTART:20251029T110000Z
DTEND:20251029T124000Z
SUMMARY:Ресурсный менеджмент
LOCATION:50 уч.к 1432
END:VEVENT
BEGIN:VEVENT
UID:tckw@192.168.245.71:3006
SEQUENCE:0
DTSTAMP:20260425T194258Z
DTSTART:20251031T070000Z
DTEND:20251031T084000Z
SUMMARY:Иностранный язык. Профессионально-ориентированный курс
LOCATION:16 к. 415
END:VEVENT
BEGIN:VEVENT
UID:f02d@192.168.245.71:3006
SEQUENCE:0
DTSTAMP:20260425T194258Z
DTSTART:20251031T090000Z
DTEND:20251031T104000Z
SUMMARY:Математические методы в экономике и управлении
LOCATION:50 уч.к 1110
END:VEVENT
BEGIN:VEVENT
UID:wn42@192.168.245.71:3006
SEQUENCE:0
DTSTAMP:20260425T194258Z
DTSTART:20251031T110000Z
DTEND:20251031T124000Z
SUMMARY:Карьерная адаптивность: Практики современного маркетинга
LOCATION:50 уч.к 1105
END:VEVENT
BEGIN:VEVENT
UID:nz3w@192.168.245.71:3006
SEQUENCE:0
DTSTAMP:20260425T194258Z
DTSTART:20251031T110000Z
DTEND:20251031T124000Z
SUMMARY:Карьерная адаптивность: Управление активами и стоимостью организац
 ии в условиях экономической нестабильности
LOCATION:50 уч.к 1111
END:VEVENT
BEGIN:VEVENT
UID:ipqa@192.168.245.71:3006
SEQUENCE:0
DTSTAMP:20260425T194258Z
DTSTART:20251031T110000Z
DTEND:20251031T124000Z
SUMMARY:Карьерная адаптивность: Правовые основы построения индивидуальной 
 карьерной траектории
LOCATION:50 уч.к 1323
END:VEVENT
BEGIN:VEVENT
UID:fofr@192.168.245.71:3006
SEQUENCE:0
DTSTAMP:20260425T194258Z
DTSTART:20251101T070000Z
DTEND:20251101T084000Z
SUMMARY:Управление инновациями
LOCATION:50 уч.к 1235
END:VEVENT
END:VCALENDAR