BEGIN:VCALENDAR
VERSION:2.0
PRODID:-//spbstu.ru//ical//RU
NAME:Расписание группы 3733802/33401
X-WR-CALNAME:Расписание группы 3733802/33401
TIMEZONE-ID:Europe/Moscow
X-WR-TIMEZONE:Europe/Moscow
BEGIN:VEVENT
UID:3e84@192.168.245.71:3006
SEQUENCE:0
DTSTAMP:20260422T141006Z
DTSTART:20260224T150000Z
DTEND:20260224T164000Z
SUMMARY:Управление и аналитика данных на предприятии
LOCATION:50 уч.к 1103
END:VEVENT
BEGIN:VEVENT
UID:b9j9@192.168.245.71:3006
SEQUENCE:0
DTSTAMP:20260422T141006Z
DTSTART:20260224T150000Z
DTEND:20260224T164000Z
SUMMARY:Карьерная адаптивность
LOCATION:50 уч.к 1414
END:VEVENT
BEGIN:VEVENT
UID:v7p0@192.168.245.71:3006
SEQUENCE:0
DTSTAMP:20260422T141006Z
DTSTART:20260225T070000Z
DTEND:20260225T084000Z
SUMMARY:Стратегия развития нефтегазового комплекса в России
LOCATION:50 уч.к 1111
END:VEVENT
BEGIN:VEVENT
UID:ezdm@192.168.245.71:3006
SEQUENCE:0
DTSTAMP:20260422T141006Z
DTSTART:20260225T110000Z
DTEND:20260225T124000Z
SUMMARY:Карьерная адаптивность: Применение инструментов гибкого управления
  для формирования навыков менеджеров будущего
LOCATION:50 уч.к 1245
END:VEVENT
BEGIN:VEVENT
UID:5udq@192.168.245.71:3006
SEQUENCE:0
DTSTAMP:20260422T141006Z
DTSTART:20260225T130000Z
DTEND:20260225T144000Z
SUMMARY:Карьерная адаптивность: Применение инструментов гибкого управления
  для формирования навыков менеджеров будущего
LOCATION:50 уч.к 1319
END:VEVENT
BEGIN:VEVENT
UID:8sh0@192.168.245.71:3006
SEQUENCE:0
DTSTAMP:20260422T141006Z
DTSTART:20260225T130000Z
DTEND:20260225T144000Z
SUMMARY:Карьерная адаптивность: Практики современного маркетинга
LOCATION:50 уч.к 1325
END:VEVENT
BEGIN:VEVENT
UID:2a4p@192.168.245.71:3006
SEQUENCE:0
DTSTAMP:20260422T141006Z
DTSTART:20260225T150000Z
DTEND:20260225T164000Z
SUMMARY:Ресурсный менеджмент
LOCATION:50 уч.к 1324
END:VEVENT
BEGIN:VEVENT
UID:0uih@192.168.245.71:3006
SEQUENCE:0
DTSTAMP:20260422T141006Z
DTSTART:20260226T090000Z
DTEND:20260226T104000Z
SUMMARY:Инвестиционный анализ
LOCATION:50 уч.к 1341
END:VEVENT
BEGIN:VEVENT
UID:8qrt@192.168.245.71:3006
SEQUENCE:0
DTSTAMP:20260422T141006Z
DTSTART:20260226T110000Z
DTEND:20260226T124000Z
SUMMARY:Стратегический менеджмент
LOCATION:50 уч.к 1111
END:VEVENT
BEGIN:VEVENT
UID:1nei@192.168.245.71:3006
SEQUENCE:0
DTSTAMP:20260422T141006Z
DTSTART:20260226T150000Z
DTEND:20260226T164000Z
SUMMARY:Межкультурная коммуникация
LOCATION:50 уч.к 1210
END:VEVENT
BEGIN:VEVENT
UID:dizl@192.168.245.71:3006
SEQUENCE:0
DTSTAMP:20260422T141006Z
DTSTART:20260227T050000Z
DTEND:20260227T064000Z
SUMMARY:Основы логистики нефтегазовых предприятий
LOCATION:50 уч.к 1112
END:VEVENT
BEGIN:VEVENT
UID:1t00@192.168.245.71:3006
SEQUENCE:0
DTSTAMP:20260422T141006Z
DTSTART:20260227T070000Z
DTEND:20260227T084000Z
SUMMARY:Основы логистики нефтегазовых предприятий
LOCATION:50 уч.к 1112
END:VEVENT
BEGIN:VEVENT
UID:binn@192.168.245.71:3006
SEQUENCE:0
DTSTAMP:20260422T141006Z
DTSTART:20260227T090000Z
DTEND:20260227T104000Z
SUMMARY:Стратегия развития нефтегазового комплекса в России
LOCATION:50 уч.к 1424
END:VEVENT
BEGIN:VEVENT
UID:e4pd@192.168.245.71:3006
SEQUENCE:0
DTSTAMP:20260422T141006Z
DTSTART:20260227T150000Z
DTEND:20260227T164000Z
SUMMARY:Карьерная адаптивность
LOCATION:50 уч.к 1226
END:VEVENT
END:VCALENDAR