BEGIN:VCALENDAR
VERSION:2.0
PRODID:-//spbstu.ru//ical//RU
NAME:Расписание группы 3733802/33401
X-WR-CALNAME:Расписание группы 3733802/33401
TIMEZONE-ID:Europe/Moscow
X-WR-TIMEZONE:Europe/Moscow
BEGIN:VEVENT
UID:renm@192.168.245.71:3006
SEQUENCE:0
DTSTAMP:20260421T120905Z
DTSTART:20260330T070000Z
DTEND:20260330T084000Z
SUMMARY:Глобальная энергетическая политика и энергетическая безопасность
LOCATION:50 уч.к 1112
END:VEVENT
BEGIN:VEVENT
UID:ly3k@192.168.245.71:3006
SEQUENCE:0
DTSTAMP:20260421T120905Z
DTSTART:20260330T090000Z
DTEND:20260330T104000Z
SUMMARY:Стратегический менеджмент
LOCATION:50 уч.к 1427
END:VEVENT
BEGIN:VEVENT
UID:27wt@192.168.245.71:3006
SEQUENCE:0
DTSTAMP:20260421T120905Z
DTSTART:20260330T110000Z
DTEND:20260330T124000Z
SUMMARY:Глобальная энергетическая политика и энергетическая безопасность
LOCATION:50 уч.к 1318
END:VEVENT
BEGIN:VEVENT
UID:m9e1@192.168.245.71:3006
SEQUENCE:0
DTSTAMP:20260421T120905Z
DTSTART:20260330T130000Z
DTEND:20260330T144000Z
SUMMARY:Инвестиционный анализ
LOCATION:50 уч.к 1204
END:VEVENT
BEGIN:VEVENT
UID:2p6q@192.168.245.71:3006
SEQUENCE:0
DTSTAMP:20260421T120905Z
DTSTART:20260330T130000Z
DTEND:20260330T144000Z
SUMMARY:Карьерная адаптивность
LOCATION:50 уч.к 1331
END:VEVENT
BEGIN:VEVENT
UID:b9ff@192.168.245.71:3006
SEQUENCE:0
DTSTAMP:20260421T120905Z
DTSTART:20260330T132000Z
DTEND:20260330T144000Z
SUMMARY:Карьерная адаптивность
LOCATION:50 уч.к 1234
END:VEVENT
BEGIN:VEVENT
UID:6sko@192.168.245.71:3006
SEQUENCE:0
DTSTAMP:20260421T120905Z
DTSTART:20260401T110000Z
DTEND:20260401T124000Z
SUMMARY:Карьерная адаптивность: Применение инструментов гибкого управления
  для формирования навыков менеджеров будущего
LOCATION:50 уч.к 1245
END:VEVENT
BEGIN:VEVENT
UID:av5g@192.168.245.71:3006
SEQUENCE:0
DTSTAMP:20260421T120905Z
DTSTART:20260401T110000Z
DTEND:20260401T124000Z
SUMMARY:Карьерная адаптивность: Практики современного маркетинга
LOCATION:50 уч.к 1341
END:VEVENT
BEGIN:VEVENT
UID:wqty@192.168.245.71:3006
SEQUENCE:0
DTSTAMP:20260421T120905Z
DTSTART:20260401T110000Z
DTEND:20260401T124000Z
SUMMARY:Карьерная адаптивность: Управление активами и стоимостью организац
 ии в условиях экономической нестабильности
LOCATION:50 уч.к 1432
END:VEVENT
BEGIN:VEVENT
UID:1wg4@192.168.245.71:3006
SEQUENCE:0
DTSTAMP:20260421T120905Z
DTSTART:20260401T130000Z
DTEND:20260401T144000Z
SUMMARY:Карьерная адаптивность: Управление активами и стоимостью организац
 ии в условиях экономической нестабильности
LOCATION:50 уч.к 1341
END:VEVENT
BEGIN:VEVENT
UID:9gtb@192.168.245.71:3006
SEQUENCE:0
DTSTAMP:20260421T120905Z
DTSTART:20260401T130000Z
DTEND:20260401T144000Z
SUMMARY:Карьерная адаптивность: Практики современного маркетинга
LOCATION:50 уч.к 1325
END:VEVENT
BEGIN:VEVENT
UID:9jg5@192.168.245.71:3006
SEQUENCE:0
DTSTAMP:20260421T120905Z
DTSTART:20260401T130000Z
DTEND:20260401T144000Z
SUMMARY:Карьерная адаптивность: Применение инструментов гибкого управления
  для формирования навыков менеджеров будущего
LOCATION:50 уч.к 1319
END:VEVENT
BEGIN:VEVENT
UID:enp3@192.168.245.71:3006
SEQUENCE:0
DTSTAMP:20260421T120905Z
DTSTART:20260402T090000Z
DTEND:20260402T104000Z
SUMMARY:Технико-экономический анализ
LOCATION:50 уч.к 1341
END:VEVENT
BEGIN:VEVENT
UID:7jlw@192.168.245.71:3006
SEQUENCE:0
DTSTAMP:20260421T120905Z
DTSTART:20260402T110000Z
DTEND:20260402T124000Z
SUMMARY:Стратегический менеджмент
LOCATION:50 уч.к 1111
END:VEVENT
BEGIN:VEVENT
UID:hai9@192.168.245.71:3006
SEQUENCE:0
DTSTAMP:20260421T120905Z
DTSTART:20260402T130000Z
DTEND:20260402T144000Z
SUMMARY:Технико-экономический анализ
LOCATION:50 уч.к 1421
END:VEVENT
BEGIN:VEVENT
UID:viva@192.168.245.71:3006
SEQUENCE:0
DTSTAMP:20260421T120905Z
DTSTART:20260402T150000Z
DTEND:20260402T164000Z
SUMMARY:Иностранный язык. Профессионально-ориентированный курс
LOCATION:16 к. 403
END:VEVENT
BEGIN:VEVENT
UID:zxuu@192.168.245.71:3006
SEQUENCE:0
DTSTAMP:20260421T120905Z
DTSTART:20260403T050000Z
DTEND:20260403T064000Z
SUMMARY:Основы логистики нефтегазовых предприятий
LOCATION:50 уч.к 1112
END:VEVENT
BEGIN:VEVENT
UID:uomt@192.168.245.71:3006
SEQUENCE:0
DTSTAMP:20260421T120905Z
DTSTART:20260403T070000Z
DTEND:20260403T084000Z
SUMMARY:Основы логистики нефтегазовых предприятий
LOCATION:50 уч.к 1112
END:VEVENT
END:VCALENDAR