BEGIN:VCALENDAR
VERSION:2.0
PRODID:-//spbstu.ru//ical//RU
NAME:Расписание группы 3733802/33581
X-WR-CALNAME:Расписание группы 3733802/33581
TIMEZONE-ID:Europe/Moscow
X-WR-TIMEZONE:Europe/Moscow
BEGIN:VEVENT
UID:08ee@192.168.245.71:3006
SEQUENCE:0
DTSTAMP:20260424T235033Z
DTSTART:20251027T070000Z
DTEND:20251027T083000Z
SUMMARY:Карьерная адаптивность: Русский язык как иностранный
LOCATION:15 к. 716
END:VEVENT
BEGIN:VEVENT
UID:bg36@192.168.245.71:3006
SEQUENCE:0
DTSTAMP:20260424T235033Z
DTSTART:20251027T070000Z
DTEND:20251027T083000Z
SUMMARY:Карьерная адаптивность: Русский язык как иностранный
LOCATION:15 к. 728
END:VEVENT
BEGIN:VEVENT
UID:4sos@192.168.245.71:3006
SEQUENCE:0
DTSTAMP:20260424T235033Z
DTSTART:20251027T090000Z
DTEND:20251027T103000Z
SUMMARY:Карьерная адаптивность: Русский язык как иностранный
LOCATION:15 к. 728
END:VEVENT
BEGIN:VEVENT
UID:s0ze@192.168.245.71:3006
SEQUENCE:0
DTSTAMP:20260424T235033Z
DTSTART:20251027T090000Z
DTEND:20251027T103000Z
SUMMARY:Карьерная адаптивность: Русский язык как иностранный
LOCATION:15 к. 716
END:VEVENT
BEGIN:VEVENT
UID:6rbs@192.168.245.71:3006
SEQUENCE:0
DTSTAMP:20260424T235033Z
DTSTART:20251028T050000Z
DTEND:20251028T063000Z
SUMMARY:Карьерная адаптивность: Русский язык как иностранный
LOCATION:15 к. 707
END:VEVENT
BEGIN:VEVENT
UID:v610@192.168.245.71:3006
SEQUENCE:0
DTSTAMP:20260424T235033Z
DTSTART:20251028T070000Z
DTEND:20251028T083000Z
SUMMARY:Карьерная адаптивность: Русский язык как иностранный
LOCATION:15 к. 707
END:VEVENT
BEGIN:VEVENT
UID:yka0@192.168.245.71:3006
SEQUENCE:0
DTSTAMP:20260424T235033Z
DTSTART:20251028T090000Z
DTEND:20251028T104000Z
SUMMARY:Управление инновациями
LOCATION:50 уч.к 1242
END:VEVENT
BEGIN:VEVENT
UID:u6a7@192.168.245.71:3006
SEQUENCE:0
DTSTAMP:20260424T235033Z
DTSTART:20251028T110000Z
DTEND:20251028T124000Z
SUMMARY:Ресурсный менеджмент
LOCATION:50 уч.к 1414
END:VEVENT
BEGIN:VEVENT
UID:c9ld@192.168.245.71:3006
SEQUENCE:0
DTSTAMP:20260424T235033Z
DTSTART:20251029T090000Z
DTEND:20251029T104000Z
SUMMARY:Продвижение бизнеса на основе видеоконтента
LOCATION:50 уч.к 1111
END:VEVENT
BEGIN:VEVENT
UID:dbyn@192.168.245.71:3006
SEQUENCE:0
DTSTAMP:20260424T235033Z
DTSTART:20251030T090000Z
DTEND:20251030T104000Z
SUMMARY:Стратегический менеджмент
LOCATION:ГЗ 237
END:VEVENT
BEGIN:VEVENT
UID:5e9u@192.168.245.71:3006
SEQUENCE:0
DTSTAMP:20260424T235033Z
DTSTART:20251030T110000Z
DTEND:20251030T124000Z
SUMMARY:Стратегический менеджмент
LOCATION:ГЗ 279
END:VEVENT
BEGIN:VEVENT
UID:9ocs@192.168.245.71:3006
SEQUENCE:0
DTSTAMP:20260424T235033Z
DTSTART:20251031T070000Z
DTEND:20251031T083000Z
SUMMARY:Карьерная адаптивность: Русский язык как иностранный
LOCATION:15 к. 420
END:VEVENT
BEGIN:VEVENT
UID:iv2e@192.168.245.71:3006
SEQUENCE:0
DTSTAMP:20260424T235033Z
DTSTART:20251031T090000Z
DTEND:20251031T103000Z
SUMMARY:Карьерная адаптивность: Русский язык как иностранный
LOCATION:15 к. 420
END:VEVENT
BEGIN:VEVENT
UID:btld@192.168.245.71:3006
SEQUENCE:0
DTSTAMP:20260424T235033Z
DTSTART:20251031T110000Z
DTEND:20251031T124000Z
SUMMARY:Управление качеством
LOCATION:50 уч.к 1106
END:VEVENT
BEGIN:VEVENT
UID:ppmk@192.168.245.71:3006
SEQUENCE:0
DTSTAMP:20260424T235033Z
DTSTART:20251031T130000Z
DTEND:20251031T144000Z
SUMMARY:Управление качеством
LOCATION:50 уч.к 1106
END:VEVENT
BEGIN:VEVENT
UID:zziv@192.168.245.71:3006
SEQUENCE:0
DTSTAMP:20260424T235033Z
DTSTART:20251101T070000Z
DTEND:20251101T084000Z
SUMMARY:Математические методы в экономике и управлении
LOCATION:50 уч.к 1107
END:VEVENT
BEGIN:VEVENT
UID:886k@192.168.245.71:3006
SEQUENCE:0
DTSTAMP:20260424T235033Z
DTSTART:20251101T090000Z
DTEND:20251101T104000Z
SUMMARY:Математические методы в экономике и управлении
LOCATION:50 уч.к 1107
END:VEVENT
BEGIN:VEVENT
UID:81qh@192.168.245.71:3006
SEQUENCE:0
DTSTAMP:20260424T235033Z
DTSTART:20251101T110000Z
DTEND:20251101T124000Z
SUMMARY:Ресурсный менеджмент
LOCATION:50 уч.к 1219
END:VEVENT
END:VCALENDAR