BEGIN:VCALENDAR
VERSION:2.0
PRODID:-//spbstu.ru//ical//RU
NAME:Расписание группы 3733802/33581
X-WR-CALNAME:Расписание группы 3733802/33581
TIMEZONE-ID:Europe/Moscow
X-WR-TIMEZONE:Europe/Moscow
BEGIN:VEVENT
UID:kxt8@192.168.245.71:3006
SEQUENCE:0
DTSTAMP:20260424T000448Z
DTSTART:20251124T070000Z
DTEND:20251124T083000Z
SUMMARY:Карьерная адаптивность: Русский язык как иностранный
LOCATION:15 к. 728
END:VEVENT
BEGIN:VEVENT
UID:bbvx@192.168.245.71:3006
SEQUENCE:0
DTSTAMP:20260424T000448Z
DTSTART:20251124T070000Z
DTEND:20251124T083000Z
SUMMARY:Карьерная адаптивность: Русский язык как иностранный
LOCATION:15 к. 716
END:VEVENT
BEGIN:VEVENT
UID:6l4j@192.168.245.71:3006
SEQUENCE:0
DTSTAMP:20260424T000448Z
DTSTART:20251124T090000Z
DTEND:20251124T103000Z
SUMMARY:Карьерная адаптивность: Русский язык как иностранный
LOCATION:15 к. 716
END:VEVENT
BEGIN:VEVENT
UID:6oqi@192.168.245.71:3006
SEQUENCE:0
DTSTAMP:20260424T000448Z
DTSTART:20251124T090000Z
DTEND:20251124T103000Z
SUMMARY:Карьерная адаптивность: Русский язык как иностранный
LOCATION:15 к. 728
END:VEVENT
BEGIN:VEVENT
UID:697u@192.168.245.71:3006
SEQUENCE:0
DTSTAMP:20260424T000448Z
DTSTART:20251125T050000Z
DTEND:20251125T063000Z
SUMMARY:Карьерная адаптивность: Русский язык как иностранный
LOCATION:15 к. 707
END:VEVENT
BEGIN:VEVENT
UID:apza@192.168.245.71:3006
SEQUENCE:0
DTSTAMP:20260424T000448Z
DTSTART:20251125T070000Z
DTEND:20251125T083000Z
SUMMARY:Карьерная адаптивность: Русский язык как иностранный
LOCATION:15 к. 707
END:VEVENT
BEGIN:VEVENT
UID:4rlp@192.168.245.71:3006
SEQUENCE:0
DTSTAMP:20260424T000448Z
DTSTART:20251125T090000Z
DTEND:20251125T104000Z
SUMMARY:Управление инновациями
LOCATION:50 уч.к 1242
END:VEVENT
BEGIN:VEVENT
UID:fr5a@192.168.245.71:3006
SEQUENCE:0
DTSTAMP:20260424T000448Z
DTSTART:20251125T110000Z
DTEND:20251125T124000Z
SUMMARY:Ресурсный менеджмент
LOCATION:50 уч.к 1414
END:VEVENT
BEGIN:VEVENT
UID:fcca@192.168.245.71:3006
SEQUENCE:0
DTSTAMP:20260424T000448Z
DTSTART:20251126T090000Z
DTEND:20251126T104000Z
SUMMARY:Продвижение бизнеса на основе видеоконтента
LOCATION:50 уч.к 1111
END:VEVENT
BEGIN:VEVENT
UID:o76z@192.168.245.71:3006
SEQUENCE:0
DTSTAMP:20260424T000448Z
DTSTART:20251127T090000Z
DTEND:20251127T104000Z
SUMMARY:Стратегический менеджмент
LOCATION:ГЗ 237
END:VEVENT
BEGIN:VEVENT
UID:fako@192.168.245.71:3006
SEQUENCE:0
DTSTAMP:20260424T000448Z
DTSTART:20251127T110000Z
DTEND:20251127T124000Z
SUMMARY:Стратегический менеджмент
LOCATION:ГЗ 279
END:VEVENT
BEGIN:VEVENT
UID:x7bm@192.168.245.71:3006
SEQUENCE:0
DTSTAMP:20260424T000448Z
DTSTART:20251128T070000Z
DTEND:20251128T083000Z
SUMMARY:Карьерная адаптивность: Русский язык как иностранный
LOCATION:15 к. 420
END:VEVENT
BEGIN:VEVENT
UID:ci7i@192.168.245.71:3006
SEQUENCE:0
DTSTAMP:20260424T000448Z
DTSTART:20251128T090000Z
DTEND:20251128T103000Z
SUMMARY:Карьерная адаптивность: Русский язык как иностранный
LOCATION:15 к. 420
END:VEVENT
BEGIN:VEVENT
UID:ylgb@192.168.245.71:3006
SEQUENCE:0
DTSTAMP:20260424T000448Z
DTSTART:20251128T110000Z
DTEND:20251128T124000Z
SUMMARY:Управление качеством
LOCATION:50 уч.к 1106
END:VEVENT
BEGIN:VEVENT
UID:56z3@192.168.245.71:3006
SEQUENCE:0
DTSTAMP:20260424T000448Z
DTSTART:20251128T130000Z
DTEND:20251128T144000Z
SUMMARY:Управление качеством
LOCATION:50 уч.к 1106
END:VEVENT
BEGIN:VEVENT
UID:9o67@192.168.245.71:3006
SEQUENCE:0
DTSTAMP:20260424T000448Z
DTSTART:20251129T070000Z
DTEND:20251129T084000Z
SUMMARY:Математические методы в экономике и управлении
LOCATION:50 уч.к 1107
END:VEVENT
BEGIN:VEVENT
UID:0gt8@192.168.245.71:3006
SEQUENCE:0
DTSTAMP:20260424T000448Z
DTSTART:20251129T090000Z
DTEND:20251129T104000Z
SUMMARY:Математические методы в экономике и управлении
LOCATION:50 уч.к 1107
END:VEVENT
BEGIN:VEVENT
UID:2pfv@192.168.245.71:3006
SEQUENCE:0
DTSTAMP:20260424T000448Z
DTSTART:20251129T110000Z
DTEND:20251129T124000Z
SUMMARY:Ресурсный менеджмент
LOCATION:50 уч.к 1219
END:VEVENT
END:VCALENDAR