BEGIN:VCALENDAR
VERSION:2.0
PRODID:-//spbstu.ru//ical//RU
NAME:Расписание группы 3733802/33581
X-WR-CALNAME:Расписание группы 3733802/33581
TIMEZONE-ID:Europe/Moscow
X-WR-TIMEZONE:Europe/Moscow
BEGIN:VEVENT
UID:gkax@192.168.245.71:3006
SEQUENCE:0
DTSTAMP:20260426T022633Z
DTSTART:20250908T070000Z
DTEND:20250908T083000Z
SUMMARY:Карьерная адаптивность: Русский язык как иностранный
LOCATION:15 к. 716
END:VEVENT
BEGIN:VEVENT
UID:n788@192.168.245.71:3006
SEQUENCE:0
DTSTAMP:20260426T022633Z
DTSTART:20250908T070000Z
DTEND:20250908T083000Z
SUMMARY:Карьерная адаптивность: Русский язык как иностранный
LOCATION:15 к. 728
END:VEVENT
BEGIN:VEVENT
UID:94sr@192.168.245.71:3006
SEQUENCE:0
DTSTAMP:20260426T022633Z
DTSTART:20250908T090000Z
DTEND:20250908T103000Z
SUMMARY:Карьерная адаптивность: Русский язык как иностранный
LOCATION:15 к. 728
END:VEVENT
BEGIN:VEVENT
UID:wkyh@192.168.245.71:3006
SEQUENCE:0
DTSTAMP:20260426T022633Z
DTSTART:20250908T090000Z
DTEND:20250908T103000Z
SUMMARY:Карьерная адаптивность: Русский язык как иностранный
LOCATION:15 к. 716
END:VEVENT
BEGIN:VEVENT
UID:88f4@192.168.245.71:3006
SEQUENCE:0
DTSTAMP:20260426T022633Z
DTSTART:20250909T050000Z
DTEND:20250909T063000Z
SUMMARY:Карьерная адаптивность: Русский язык как иностранный
LOCATION:15 к. 707
END:VEVENT
BEGIN:VEVENT
UID:jju4@192.168.245.71:3006
SEQUENCE:0
DTSTAMP:20260426T022633Z
DTSTART:20250909T070000Z
DTEND:20250909T083000Z
SUMMARY:Карьерная адаптивность: Русский язык как иностранный
LOCATION:15 к. 707
END:VEVENT
BEGIN:VEVENT
UID:olti@192.168.245.71:3006
SEQUENCE:0
DTSTAMP:20260426T022633Z
DTSTART:20250909T090000Z
DTEND:20250909T104000Z
SUMMARY:Управление инновациями
LOCATION:50 уч.к 1242
END:VEVENT
BEGIN:VEVENT
UID:sc1q@192.168.245.71:3006
SEQUENCE:0
DTSTAMP:20260426T022633Z
DTSTART:20250909T110000Z
DTEND:20250909T124000Z
SUMMARY:Ресурсный менеджмент
LOCATION:50 уч.к 1414
END:VEVENT
BEGIN:VEVENT
UID:7c04@192.168.245.71:3006
SEQUENCE:0
DTSTAMP:20260426T022633Z
DTSTART:20250910T090000Z
DTEND:20250910T104000Z
SUMMARY:Глобальная логистика
LOCATION:50 уч.к 1107
END:VEVENT
BEGIN:VEVENT
UID:in6d@192.168.245.71:3006
SEQUENCE:0
DTSTAMP:20260426T022633Z
DTSTART:20250910T110000Z
DTEND:20250910T124000Z
SUMMARY:Глобальная логистика
LOCATION:50 уч.к 1107
END:VEVENT
BEGIN:VEVENT
UID:c6i3@192.168.245.71:3006
SEQUENCE:0
DTSTAMP:20260426T022633Z
DTSTART:20250910T130000Z
DTEND:20250910T144000Z
SUMMARY:Продвижение бизнеса на основе видеоконтента
LOCATION:50 уч.к 1210
END:VEVENT
BEGIN:VEVENT
UID:s8qb@192.168.245.71:3006
SEQUENCE:0
DTSTAMP:20260426T022633Z
DTSTART:20250911T090000Z
DTEND:20250911T104000Z
SUMMARY:Стратегический менеджмент
LOCATION:ГЗ 237
END:VEVENT
BEGIN:VEVENT
UID:9jiy@192.168.245.71:3006
SEQUENCE:0
DTSTAMP:20260426T022633Z
DTSTART:20250911T110000Z
DTEND:20250911T124000Z
SUMMARY:Стратегический менеджмент
LOCATION:ГЗ 279
END:VEVENT
BEGIN:VEVENT
UID:o1ku@192.168.245.71:3006
SEQUENCE:0
DTSTAMP:20260426T022633Z
DTSTART:20250912T070000Z
DTEND:20250912T083000Z
SUMMARY:Карьерная адаптивность: Русский язык как иностранный
LOCATION:15 к. 420
END:VEVENT
BEGIN:VEVENT
UID:6zc3@192.168.245.71:3006
SEQUENCE:0
DTSTAMP:20260426T022633Z
DTSTART:20250912T090000Z
DTEND:20250912T103000Z
SUMMARY:Карьерная адаптивность: Русский язык как иностранный
LOCATION:15 к. 420
END:VEVENT
BEGIN:VEVENT
UID:rb3x@192.168.245.71:3006
SEQUENCE:0
DTSTAMP:20260426T022633Z
DTSTART:20250912T110000Z
DTEND:20250912T124000Z
SUMMARY:Глобальная логистика
LOCATION:50 уч.к 1318
END:VEVENT
BEGIN:VEVENT
UID:82mo@192.168.245.71:3006
SEQUENCE:0
DTSTAMP:20260426T022633Z
DTSTART:20250912T130000Z
DTEND:20250912T144000Z
SUMMARY:Управление качеством
LOCATION:50 уч.к 1106
END:VEVENT
BEGIN:VEVENT
UID:t1o4@192.168.245.71:3006
SEQUENCE:0
DTSTAMP:20260426T022633Z
DTSTART:20250913T090000Z
DTEND:20250913T104000Z
SUMMARY:Математические методы в экономике и управлении
LOCATION:50 уч.к 1107
END:VEVENT
END:VCALENDAR