BEGIN:VCALENDAR
VERSION:2.0
PRODID:-//spbstu.ru//ical//RU
NAME:Расписание группы 3733802/33581
X-WR-CALNAME:Расписание группы 3733802/33581
TIMEZONE-ID:Europe/Moscow
X-WR-TIMEZONE:Europe/Moscow
BEGIN:VEVENT
UID:ulzm@192.168.245.71:3006
SEQUENCE:0
DTSTAMP:20260422T091023Z
DTSTART:20260216T063000Z
DTEND:20260216T070000Z
SUMMARY:Ресурсный менеджмент
LOCATION:50 уч.к 1208
END:VEVENT
BEGIN:VEVENT
UID:kr56@192.168.245.71:3006
SEQUENCE:0
DTSTAMP:20260422T091023Z
DTSTART:20260217T110000Z
DTEND:20260217T124000Z
SUMMARY:Информационная поддержка бизнес-процессов
LOCATION:50 уч.к 1210
END:VEVENT
BEGIN:VEVENT
UID:hbfx@192.168.245.71:3006
SEQUENCE:0
DTSTAMP:20260422T091023Z
DTSTART:20260217T130000Z
DTEND:20260217T144000Z
SUMMARY:Международный менеджмент
LOCATION:50 уч.к 1218
END:VEVENT
BEGIN:VEVENT
UID:d0is@192.168.245.71:3006
SEQUENCE:0
DTSTAMP:20260422T091023Z
DTSTART:20260217T150000Z
DTEND:20260217T164000Z
SUMMARY:Управление инновациями
LOCATION:50 уч.к 1104
END:VEVENT
BEGIN:VEVENT
UID:11dp@192.168.245.71:3006
SEQUENCE:0
DTSTAMP:20260422T091023Z
DTSTART:20260218T110000Z
DTEND:20260218T124000Z
SUMMARY:Инвестиционный анализ
LOCATION:50 уч.к 1109
END:VEVENT
BEGIN:VEVENT
UID:2sy1@192.168.245.71:3006
SEQUENCE:0
DTSTAMP:20260422T091023Z
DTSTART:20260218T130000Z
DTEND:20260218T144000Z
SUMMARY:Инвестиционный анализ
LOCATION:50 уч.к 1331
END:VEVENT
BEGIN:VEVENT
UID:4hzq@192.168.245.71:3006
SEQUENCE:0
DTSTAMP:20260422T091023Z
DTSTART:20260219T050000Z
DTEND:20260219T064000Z
SUMMARY:Операционный менеджмент
LOCATION:50 уч.к 1249
END:VEVENT
BEGIN:VEVENT
UID:v8sh@192.168.245.71:3006
SEQUENCE:0
DTSTAMP:20260422T091023Z
DTSTART:20260219T070000Z
DTEND:20260219T084000Z
SUMMARY:Деловые коммуникации
LOCATION:50 уч.к 1414
END:VEVENT
BEGIN:VEVENT
UID:z7dx@192.168.245.71:3006
SEQUENCE:0
DTSTAMP:20260422T091023Z
DTSTART:20260219T090000Z
DTEND:20260219T104000Z
SUMMARY:Технико-экономический анализ
LOCATION:50 уч.к 1341
END:VEVENT
BEGIN:VEVENT
UID:s7w8@192.168.245.71:3006
SEQUENCE:0
DTSTAMP:20260422T091023Z
DTSTART:20260219T110000Z
DTEND:20260219T124000Z
SUMMARY:Технико-экономический анализ
LOCATION:50 уч.к 1421
END:VEVENT
BEGIN:VEVENT
UID:qdpa@192.168.245.71:3006
SEQUENCE:0
DTSTAMP:20260422T091023Z
DTSTART:20260220T070000Z
DTEND:20260220T084000Z
SUMMARY:Глобальная логистика
LOCATION:50 уч.к 21003
END:VEVENT
END:VCALENDAR