BEGIN:VCALENDAR
VERSION:2.0
PRODID:-//spbstu.ru//ical//RU
NAME:Расписание группы 3733802/33581
X-WR-CALNAME:Расписание группы 3733802/33581
TIMEZONE-ID:Europe/Moscow
X-WR-TIMEZONE:Europe/Moscow
BEGIN:VEVENT
UID:lvrr@192.168.245.71:3006
SEQUENCE:0
DTSTAMP:20260421T141710Z
DTSTART:20260407T090000Z
DTEND:20260407T104000Z
SUMMARY:Организация внешнеэкономической деятельности
LOCATION:50 уч.к 1112
END:VEVENT
BEGIN:VEVENT
UID:2m0h@192.168.245.71:3006
SEQUENCE:0
DTSTAMP:20260421T141710Z
DTSTART:20260407T110000Z
DTEND:20260407T124000Z
SUMMARY:Информационная поддержка бизнес-процессов
LOCATION:50 уч.к 1217
END:VEVENT
BEGIN:VEVENT
UID:p4py@192.168.245.71:3006
SEQUENCE:0
DTSTAMP:20260421T141710Z
DTSTART:20260407T130000Z
DTEND:20260407T144000Z
SUMMARY:Международный менеджмент
LOCATION:50 уч.к 1218
END:VEVENT
BEGIN:VEVENT
UID:xkq2@192.168.245.71:3006
SEQUENCE:0
DTSTAMP:20260421T141710Z
DTSTART:20260408T090000Z
DTEND:20260408T104000Z
SUMMARY:Операционный менеджмент
LOCATION:50 уч.к 1206
END:VEVENT
BEGIN:VEVENT
UID:gs4v@192.168.245.71:3006
SEQUENCE:0
DTSTAMP:20260421T141710Z
DTSTART:20260409T070000Z
DTEND:20260409T084000Z
SUMMARY:Деловые коммуникации
LOCATION:50 уч.к 1414
END:VEVENT
END:VCALENDAR