BEGIN:VCALENDAR
VERSION:2.0
PRODID:-//spbstu.ru//ical//RU
NAME:Расписание группы 3733802/33601
X-WR-CALNAME:Расписание группы 3733802/33601
TIMEZONE-ID:Europe/Moscow
X-WR-TIMEZONE:Europe/Moscow
BEGIN:VEVENT
UID:ei1e@192.168.245.71:3006
SEQUENCE:0
DTSTAMP:20260421T102758Z
DTSTART:20260406T110000Z
DTEND:20260406T124000Z
SUMMARY:Организация инновационной деятельности на промышленных предприятия
 х
LOCATION:50 уч.к 1251
END:VEVENT
BEGIN:VEVENT
UID:lnf4@192.168.245.71:3006
SEQUENCE:0
DTSTAMP:20260421T102758Z
DTSTART:20260406T130000Z
DTEND:20260406T144000Z
SUMMARY:Организация инновационной деятельности на промышленных предприятия
 х
LOCATION:50 уч.к 1112
END:VEVENT
BEGIN:VEVENT
UID:ea9x@192.168.245.71:3006
SEQUENCE:0
DTSTAMP:20260421T102758Z
DTSTART:20260407T070000Z
DTEND:20260407T084000Z
SUMMARY:Организация\, нормирование и оплата труда на предприятии
LOCATION:50 уч.к 1425
END:VEVENT
BEGIN:VEVENT
UID:zcmt@192.168.245.71:3006
SEQUENCE:0
DTSTAMP:20260421T102758Z
DTSTART:20260407T090000Z
DTEND:20260407T104000Z
SUMMARY:Организация\, нормирование и оплата труда на предприятии
LOCATION:50 уч.к 1243
END:VEVENT
BEGIN:VEVENT
UID:jgxi@192.168.245.71:3006
SEQUENCE:0
DTSTAMP:20260421T102758Z
DTSTART:20260408T110000Z
DTEND:20260408T124000Z
SUMMARY:Карьерная адаптивность: Применение инструментов гибкого управления
  для формирования навыков менеджеров будущего
LOCATION:50 уч.к 1245
END:VEVENT
BEGIN:VEVENT
UID:wmqa@192.168.245.71:3006
SEQUENCE:0
DTSTAMP:20260421T102758Z
DTSTART:20260408T110000Z
DTEND:20260408T124000Z
SUMMARY:Карьерная адаптивность: Управление активами и стоимостью организац
 ии в условиях экономической нестабильности
LOCATION:50 уч.к 1432
END:VEVENT
BEGIN:VEVENT
UID:4gug@192.168.245.71:3006
SEQUENCE:0
DTSTAMP:20260421T102758Z
DTSTART:20260408T130000Z
DTEND:20260408T144000Z
SUMMARY:Карьерная адаптивность: Управление активами и стоимостью организац
 ии в условиях экономической нестабильности
LOCATION:50 уч.к 1105
END:VEVENT
BEGIN:VEVENT
UID:xdki@192.168.245.71:3006
SEQUENCE:0
DTSTAMP:20260421T102758Z
DTSTART:20260408T130000Z
DTEND:20260408T144000Z
SUMMARY:Карьерная адаптивность: Применение инструментов гибкого управления
  для формирования навыков менеджеров будущего
LOCATION:50 уч.к 1319
END:VEVENT
BEGIN:VEVENT
UID:ddy9@192.168.245.71:3006
SEQUENCE:0
DTSTAMP:20260421T102758Z
DTSTART:20260409T070000Z
DTEND:20260409T084000Z
SUMMARY:Технико-экономический анализ
LOCATION:50 уч.к 1112
END:VEVENT
BEGIN:VEVENT
UID:h33n@192.168.245.71:3006
SEQUENCE:0
DTSTAMP:20260421T102758Z
DTSTART:20260409T090000Z
DTEND:20260409T104000Z
SUMMARY:Инвестиционный анализ
LOCATION:50 уч.к 1341
END:VEVENT
BEGIN:VEVENT
UID:n2hi@192.168.245.71:3006
SEQUENCE:0
DTSTAMP:20260421T102758Z
DTSTART:20260409T110000Z
DTEND:20260409T124000Z
SUMMARY:Стратегический менеджмент
LOCATION:50 уч.к 1111
END:VEVENT
BEGIN:VEVENT
UID:c8nq@192.168.245.71:3006
SEQUENCE:0
DTSTAMP:20260421T102758Z
DTSTART:20260409T130000Z
DTEND:20260409T144000Z
SUMMARY:Организация инновационной деятельности на промышленных предприятия
 х
LOCATION:50 уч.к 1112
END:VEVENT
BEGIN:VEVENT
UID:7kwm@192.168.245.71:3006
SEQUENCE:0
DTSTAMP:20260421T102758Z
DTSTART:20260410T070000Z
DTEND:20260410T084000Z
SUMMARY:Организация контроля качества продукции на промышленном предприяти
 и
LOCATION:50 уч.к 1425
END:VEVENT
BEGIN:VEVENT
UID:v3pa@192.168.245.71:3006
SEQUENCE:0
DTSTAMP:20260421T102758Z
DTSTART:20260410T090000Z
DTEND:20260410T104000Z
SUMMARY:Организация контроля качества продукции на промышленном предприяти
 и
LOCATION:50 уч.к 1425
END:VEVENT
END:VCALENDAR