BEGIN:VCALENDAR
VERSION:2.0
PRODID:-//spbstu.ru//ical//RU
NAME:Расписание группы 3733802/33601
X-WR-CALNAME:Расписание группы 3733802/33601
TIMEZONE-ID:Europe/Moscow
X-WR-TIMEZONE:Europe/Moscow
BEGIN:VEVENT
UID:au5u@192.168.245.71:3006
SEQUENCE:0
DTSTAMP:20260423T184621Z
DTSTART:20260511T050000Z
DTEND:20260511T064000Z
SUMMARY:Стратегический менеджмент
LOCATION:50 уч.к 1426
END:VEVENT
BEGIN:VEVENT
UID:5hwt@192.168.245.71:3006
SEQUENCE:0
DTSTAMP:20260423T184621Z
DTSTART:20260511T110000Z
DTEND:20260511T124000Z
SUMMARY:Инвестиционный анализ
LOCATION:50 уч.к 1204
END:VEVENT
BEGIN:VEVENT
UID:9vek@192.168.245.71:3006
SEQUENCE:0
DTSTAMP:20260423T184621Z
DTSTART:20260513T110000Z
DTEND:20260513T124000Z
SUMMARY:Карьерная адаптивность: Применение инструментов гибкого управления
  для формирования навыков менеджеров будущего
LOCATION:50 уч.к 1245
END:VEVENT
BEGIN:VEVENT
UID:2c1w@192.168.245.71:3006
SEQUENCE:0
DTSTAMP:20260423T184621Z
DTSTART:20260513T110000Z
DTEND:20260513T124000Z
SUMMARY:Карьерная адаптивность: Практики современного маркетинга
LOCATION:50 уч.к 1341
END:VEVENT
BEGIN:VEVENT
UID:2svr@192.168.245.71:3006
SEQUENCE:0
DTSTAMP:20260423T184621Z
DTSTART:20260513T130000Z
DTEND:20260513T144000Z
SUMMARY:Карьерная адаптивность: Практики современного маркетинга
LOCATION:50 уч.к 1325
END:VEVENT
BEGIN:VEVENT
UID:aqxt@192.168.245.71:3006
SEQUENCE:0
DTSTAMP:20260423T184621Z
DTSTART:20260513T130000Z
DTEND:20260513T144000Z
SUMMARY:Карьерная адаптивность: Применение инструментов гибкого управления
  для формирования навыков менеджеров будущего
LOCATION:50 уч.к 1319
END:VEVENT
BEGIN:VEVENT
UID:hm07@192.168.245.71:3006
SEQUENCE:0
DTSTAMP:20260423T184621Z
DTSTART:20260514T090000Z
DTEND:20260514T104000Z
SUMMARY:Технико-экономический анализ
LOCATION:50 уч.к 1341
END:VEVENT
BEGIN:VEVENT
UID:6c1s@192.168.245.71:3006
SEQUENCE:0
DTSTAMP:20260423T184621Z
DTSTART:20260514T110000Z
DTEND:20260514T124000Z
SUMMARY:Стратегический менеджмент
LOCATION:50 уч.к 1111
END:VEVENT
BEGIN:VEVENT
UID:95ib@192.168.245.71:3006
SEQUENCE:0
DTSTAMP:20260423T184621Z
DTSTART:20260514T130000Z
DTEND:20260514T144000Z
SUMMARY:Организация инновационной деятельности на промышленных предприятия
 х
LOCATION:50 уч.к 1112
END:VEVENT
BEGIN:VEVENT
UID:t8he@192.168.245.71:3006
SEQUENCE:0
DTSTAMP:20260423T184621Z
DTSTART:20260516T070000Z
DTEND:20260516T084000Z
SUMMARY:Промышленные технологии 4.0: Машины и оборудование промышленных пр
 едприятий
LOCATION:50 уч.к 1328
END:VEVENT
BEGIN:VEVENT
UID:cs9i@192.168.245.71:3006
SEQUENCE:0
DTSTAMP:20260423T184621Z
DTSTART:20260516T090000Z
DTEND:20260516T104000Z
SUMMARY:Промышленные технологии 4.0: Машины и оборудование промышленных пр
 едприятий
LOCATION:50 уч.к 1328
END:VEVENT
END:VCALENDAR