BEGIN:VCALENDAR
VERSION:2.0
PRODID:-//spbstu.ru//ical//RU
NAME:Расписание группы 3733804/30102
X-WR-CALNAME:Расписание группы 3733804/30102
TIMEZONE-ID:Europe/Moscow
X-WR-TIMEZONE:Europe/Moscow
BEGIN:VEVENT
UID:gn9m@192.168.245.71:3006
SEQUENCE:0
DTSTAMP:20260425T191937Z
DTSTART:20251020T070000Z
DTEND:20251020T084000Z
SUMMARY:Государственные и муниципальные финансы
LOCATION:50 уч.к 1217
END:VEVENT
BEGIN:VEVENT
UID:7cdu@192.168.245.71:3006
SEQUENCE:0
DTSTAMP:20260425T191937Z
DTSTART:20251020T110000Z
DTEND:20251020T124000Z
SUMMARY:Прогнозирование социально-экономического развития государства
LOCATION:50 уч.к 1414
END:VEVENT
BEGIN:VEVENT
UID:q3lz@192.168.245.71:3006
SEQUENCE:0
DTSTAMP:20260425T191937Z
DTSTART:20251020T130000Z
DTEND:20251020T144000Z
SUMMARY:Экономика государственного и муниципального сектора
LOCATION:50 уч.к 1331
END:VEVENT
BEGIN:VEVENT
UID:3d1o@192.168.245.71:3006
SEQUENCE:0
DTSTAMP:20260425T191937Z
DTSTART:20251022T070000Z
DTEND:20251022T084000Z
SUMMARY:Региональное управление и территориальное планирование
LOCATION:50 уч.к 1323
END:VEVENT
BEGIN:VEVENT
UID:vsbj@192.168.245.71:3006
SEQUENCE:0
DTSTAMP:20260425T191937Z
DTSTART:20251022T090000Z
DTEND:20251022T104000Z
SUMMARY:Государственные и муниципальные финансы
LOCATION:50 уч.к 1414
END:VEVENT
BEGIN:VEVENT
UID:622p@192.168.245.71:3006
SEQUENCE:0
DTSTAMP:20260425T191937Z
DTSTART:20251022T110000Z
DTEND:20251022T124000Z
SUMMARY:Региональное управление и территориальное планирование
LOCATION:50 уч.к 1323
END:VEVENT
BEGIN:VEVENT
UID:u4i4@192.168.245.71:3006
SEQUENCE:0
DTSTAMP:20260425T191937Z
DTSTART:20251022T130000Z
DTEND:20251022T144000Z
SUMMARY:Государственные и муниципальные закупки
LOCATION:50 уч.к 1323
END:VEVENT
BEGIN:VEVENT
UID:0xg1@192.168.245.71:3006
SEQUENCE:0
DTSTAMP:20260425T191937Z
DTSTART:20251023T070000Z
DTEND:20251023T084000Z
SUMMARY:Прогнозирование социально-экономического развития государства
LOCATION:50 уч.к 1323
END:VEVENT
BEGIN:VEVENT
UID:q2wy@192.168.245.71:3006
SEQUENCE:0
DTSTAMP:20260425T191937Z
DTSTART:20251023T090000Z
DTEND:20251023T104000Z
SUMMARY:Государственная и муниципальная служба
LOCATION:50 уч.к 1323
END:VEVENT
BEGIN:VEVENT
UID:07ur@192.168.245.71:3006
SEQUENCE:0
DTSTAMP:20260425T191937Z
DTSTART:20251023T110000Z
DTEND:20251023T124000Z
SUMMARY:Системы принятия решений в государственном и муниципальном управле
 нии
LOCATION:50 уч.к 1323
END:VEVENT
BEGIN:VEVENT
UID:w80g@192.168.245.71:3006
SEQUENCE:0
DTSTAMP:20260425T191937Z
DTSTART:20251023T130000Z
DTEND:20251023T144000Z
SUMMARY:Экономика государственного и муниципального сектора
LOCATION:50 уч.к 1323
END:VEVENT
BEGIN:VEVENT
UID:j2yg@192.168.245.71:3006
SEQUENCE:0
DTSTAMP:20260425T191937Z
DTSTART:20251024T070000Z
DTEND:20251024T084000Z
SUMMARY:Государственные и муниципальные закупки
LOCATION:50 уч.к 1226
END:VEVENT
BEGIN:VEVENT
UID:r4tw@192.168.245.71:3006
SEQUENCE:0
DTSTAMP:20260425T191937Z
DTSTART:20251024T090000Z
DTEND:20251024T104000Z
SUMMARY:Государственная и муниципальная служба
LOCATION:50 уч.к 1231
END:VEVENT
BEGIN:VEVENT
UID:xibt@192.168.245.71:3006
SEQUENCE:0
DTSTAMP:20260425T191937Z
DTSTART:20251024T110000Z
DTEND:20251024T124000Z
SUMMARY:Системы принятия решений в государственном и муниципальном управле
 нии
LOCATION:50 уч.к 1226
END:VEVENT
BEGIN:VEVENT
UID:qs6t@192.168.245.71:3006
SEQUENCE:0
DTSTAMP:20260425T191937Z
DTSTART:20251025T070000Z
DTEND:20251025T084000Z
SUMMARY:Иностранный язык. Профессионально-ориентированный курс
LOCATION:16 к. 417
END:VEVENT
END:VCALENDAR