BEGIN:VCALENDAR
VERSION:2.0
PRODID:-//spbstu.ru//ical//RU
NAME:Расписание группы 3733804/30102
X-WR-CALNAME:Расписание группы 3733804/30102
TIMEZONE-ID:Europe/Moscow
X-WR-TIMEZONE:Europe/Moscow
BEGIN:VEVENT
UID:wa7z@192.168.245.71:3006
SEQUENCE:0
DTSTAMP:20260424T202604Z
DTSTART:20251124T110000Z
DTEND:20251124T124000Z
SUMMARY:Прогнозирование социально-экономического развития государства
LOCATION:50 уч.к 1414
END:VEVENT
BEGIN:VEVENT
UID:wf2w@192.168.245.71:3006
SEQUENCE:0
DTSTAMP:20260424T202604Z
DTSTART:20251124T130000Z
DTEND:20251124T144000Z
SUMMARY:Экономика государственного и муниципального сектора
LOCATION:50 уч.к 1331
END:VEVENT
BEGIN:VEVENT
UID:bgt0@192.168.245.71:3006
SEQUENCE:0
DTSTAMP:20260424T202604Z
DTSTART:20251126T070000Z
DTEND:20251126T084000Z
SUMMARY:Региональное управление и территориальное планирование
LOCATION:50 уч.к 1323
END:VEVENT
BEGIN:VEVENT
UID:f4kh@192.168.245.71:3006
SEQUENCE:0
DTSTAMP:20260424T202604Z
DTSTART:20251126T090000Z
DTEND:20251126T104000Z
SUMMARY:Государственные и муниципальные финансы
LOCATION:50 уч.к 1414
END:VEVENT
BEGIN:VEVENT
UID:27d7@192.168.245.71:3006
SEQUENCE:0
DTSTAMP:20260424T202604Z
DTSTART:20251126T110000Z
DTEND:20251126T124000Z
SUMMARY:Региональное управление и территориальное планирование
LOCATION:50 уч.к 1323
END:VEVENT
BEGIN:VEVENT
UID:1cbo@192.168.245.71:3006
SEQUENCE:0
DTSTAMP:20260424T202604Z
DTSTART:20251126T130000Z
DTEND:20251126T144000Z
SUMMARY:Государственные и муниципальные финансы
LOCATION:50 уч.к 1323
END:VEVENT
BEGIN:VEVENT
UID:6m4y@192.168.245.71:3006
SEQUENCE:0
DTSTAMP:20260424T202604Z
DTSTART:20251127T090000Z
DTEND:20251127T104000Z
SUMMARY:Государственная и муниципальная служба
LOCATION:50 уч.к 1323
END:VEVENT
BEGIN:VEVENT
UID:luyu@192.168.245.71:3006
SEQUENCE:0
DTSTAMP:20260424T202604Z
DTSTART:20251127T110000Z
DTEND:20251127T124000Z
SUMMARY:Системы принятия решений в государственном и муниципальном управле
 нии
LOCATION:50 уч.к 1323
END:VEVENT
BEGIN:VEVENT
UID:ugzq@192.168.245.71:3006
SEQUENCE:0
DTSTAMP:20260424T202604Z
DTSTART:20251127T130000Z
DTEND:20251127T144000Z
SUMMARY:Экономика государственного и муниципального сектора
LOCATION:50 уч.к 1323
END:VEVENT
BEGIN:VEVENT
UID:33iv@192.168.245.71:3006
SEQUENCE:0
DTSTAMP:20260424T202604Z
DTSTART:20251128T070000Z
DTEND:20251128T084000Z
SUMMARY:Государственные и муниципальные закупки
LOCATION:50 уч.к 1226
END:VEVENT
BEGIN:VEVENT
UID:iuqb@192.168.245.71:3006
SEQUENCE:0
DTSTAMP:20260424T202604Z
DTSTART:20251128T090000Z
DTEND:20251128T104000Z
SUMMARY:Государственная и муниципальная служба
LOCATION:50 уч.к 1231
END:VEVENT
BEGIN:VEVENT
UID:tdvl@192.168.245.71:3006
SEQUENCE:0
DTSTAMP:20260424T202604Z
DTSTART:20251128T110000Z
DTEND:20251128T124000Z
SUMMARY:Системы принятия решений в государственном и муниципальном управле
 нии
LOCATION:50 уч.к 1226
END:VEVENT
BEGIN:VEVENT
UID:jrqo@192.168.245.71:3006
SEQUENCE:0
DTSTAMP:20260424T202604Z
DTSTART:20251129T070000Z
DTEND:20251129T084000Z
SUMMARY:Иностранный язык. Профессионально-ориентированный курс
LOCATION:16 к. 402
END:VEVENT
BEGIN:VEVENT
UID:dkew@192.168.245.71:3006
SEQUENCE:0
DTSTAMP:20260424T202604Z
DTSTART:20251129T090000Z
DTEND:20251129T104000Z
SUMMARY:Иностранный язык. Профессионально-ориентированный курс
LOCATION:16 к. 402
END:VEVENT
END:VCALENDAR