BEGIN:VCALENDAR
VERSION:2.0
PRODID:-//spbstu.ru//ical//RU
NAME:Расписание группы 3733804/30102
X-WR-CALNAME:Расписание группы 3733804/30102
TIMEZONE-ID:Europe/Moscow
X-WR-TIMEZONE:Europe/Moscow
BEGIN:VEVENT
UID:yh29@192.168.245.71:3006
SEQUENCE:0
DTSTAMP:20260422T225122Z
DTSTART:20260112T070000Z
DTEND:20260112T080000Z
SUMMARY:Региональное управление и территориальное планирование
LOCATION:50 уч.к 1230
END:VEVENT
BEGIN:VEVENT
UID:6cqw@192.168.245.71:3006
SEQUENCE:0
DTSTAMP:20260422T225122Z
DTSTART:20260114T110000Z
DTEND:20260114T143000Z
SUMMARY:Региональное управление и территориальное планирование
LOCATION:50 уч.к 1218
END:VEVENT
BEGIN:VEVENT
UID:f7kd@192.168.245.71:3006
SEQUENCE:0
DTSTAMP:20260422T225122Z
DTSTART:20260117T070000Z
DTEND:20260117T073000Z
SUMMARY:Иностранный язык. Профессионально-ориентированный курс
LOCATION:50 уч.к 1218
END:VEVENT
BEGIN:VEVENT
UID:ei4j@192.168.245.71:3006
SEQUENCE:0
DTSTAMP:20260422T225122Z
DTSTART:20260117T073000Z
DTEND:20260117T103000Z
SUMMARY:Иностранный язык. Профессионально-ориентированный курс
LOCATION:50 уч.к 1218
END:VEVENT
END:VCALENDAR