BEGIN:VCALENDAR
VERSION:2.0
PRODID:-//spbstu.ru//ical//RU
NAME:Расписание группы 3733804/30102
X-WR-CALNAME:Расписание группы 3733804/30102
TIMEZONE-ID:Europe/Moscow
X-WR-TIMEZONE:Europe/Moscow
BEGIN:VEVENT
UID:s5bo@192.168.245.71:3006
SEQUENCE:0
DTSTAMP:20260422T101322Z
DTSTART:20260224T050000Z
DTEND:20260224T064000Z
SUMMARY:Государственное стратегическое управление
LOCATION:50 уч.к 1249
END:VEVENT
BEGIN:VEVENT
UID:by7p@192.168.245.71:3006
SEQUENCE:0
DTSTAMP:20260422T101322Z
DTSTART:20260224T070000Z
DTEND:20260224T084000Z
SUMMARY:Государственное стратегическое управление
LOCATION:50 уч.к 1331
END:VEVENT
BEGIN:VEVENT
UID:142d@192.168.245.71:3006
SEQUENCE:0
DTSTAMP:20260422T101322Z
DTSTART:20260224T090000Z
DTEND:20260224T104000Z
SUMMARY:Государственное стратегическое управление
LOCATION:50 уч.к 1331
END:VEVENT
BEGIN:VEVENT
UID:zmng@192.168.245.71:3006
SEQUENCE:0
DTSTAMP:20260422T101322Z
DTSTART:20260225T050000Z
DTEND:20260225T064000Z
SUMMARY:Этика публичной службы и противодействие коррупции
LOCATION:50 уч.к 1249
END:VEVENT
BEGIN:VEVENT
UID:iupa@192.168.245.71:3006
SEQUENCE:0
DTSTAMP:20260422T101322Z
DTSTART:20260225T070000Z
DTEND:20260225T084000Z
SUMMARY:Этика публичной службы и противодействие коррупции
LOCATION:50 уч.к 1115
END:VEVENT
BEGIN:VEVENT
UID:idp4@192.168.245.71:3006
SEQUENCE:0
DTSTAMP:20260422T101322Z
DTSTART:20260225T090000Z
DTEND:20260225T104000Z
SUMMARY:Кадровая работа на государственной и муниципальной службе
LOCATION:50 уч.к 1324
END:VEVENT
BEGIN:VEVENT
UID:lbea@192.168.245.71:3006
SEQUENCE:0
DTSTAMP:20260422T101322Z
DTSTART:20260225T150000Z
DTEND:20260225T164000Z
SUMMARY:Государственные и муниципальные закупки
LOCATION:50 уч.к 1424
END:VEVENT
BEGIN:VEVENT
UID:wgxl@192.168.245.71:3006
SEQUENCE:0
DTSTAMP:20260422T101322Z
DTSTART:20260227T050000Z
DTEND:20260227T064000Z
SUMMARY:Государственное регулирование демографических и миграционных проце
 ссов
LOCATION:50 уч.к 1428
END:VEVENT
BEGIN:VEVENT
UID:fy51@192.168.245.71:3006
SEQUENCE:0
DTSTAMP:20260422T101322Z
DTSTART:20260227T070000Z
DTEND:20260227T084000Z
SUMMARY:Планирование и проектирование деятельности органов государственног
 о и муниципального управления
LOCATION:50 уч.к 1426
END:VEVENT
BEGIN:VEVENT
UID:cecc@192.168.245.71:3006
SEQUENCE:0
DTSTAMP:20260422T101322Z
DTSTART:20260227T090000Z
DTEND:20260227T104000Z
SUMMARY:Принятие и исполнение государственных решений
LOCATION:50 уч.к 1326
END:VEVENT
BEGIN:VEVENT
UID:6eis@192.168.245.71:3006
SEQUENCE:0
DTSTAMP:20260422T101322Z
DTSTART:20260227T110000Z
DTEND:20260227T124000Z
SUMMARY:Государственное регулирование демографических и миграционных проце
 ссов
LOCATION:50 уч.к 1113
END:VEVENT
END:VCALENDAR