BEGIN:VCALENDAR
VERSION:2.0
PRODID:-//spbstu.ru//ical//RU
NAME:Расписание группы 3733804/30102
X-WR-CALNAME:Расписание группы 3733804/30102
TIMEZONE-ID:Europe/Moscow
X-WR-TIMEZONE:Europe/Moscow
BEGIN:VEVENT
UID:m5uh@192.168.245.71:3006
SEQUENCE:0
DTSTAMP:20260421T174741Z
DTSTART:20260323T070000Z
DTEND:20260323T084000Z
SUMMARY:Планирование и проектирование деятельности органов государственног
 о и муниципального управления
LOCATION:50 уч.к 1115
END:VEVENT
BEGIN:VEVENT
UID:cedd@192.168.245.71:3006
SEQUENCE:0
DTSTAMP:20260421T174741Z
DTSTART:20260323T090000Z
DTEND:20260323T104000Z
SUMMARY:Планирование и проектирование деятельности органов государственног
 о и муниципального управления
LOCATION:50 уч.к 1115
END:VEVENT
BEGIN:VEVENT
UID:s7m3@192.168.245.71:3006
SEQUENCE:0
DTSTAMP:20260421T174741Z
DTSTART:20260324T050000Z
DTEND:20260324T064000Z
SUMMARY:Государственное стратегическое управление
LOCATION:50 уч.к 1249
END:VEVENT
BEGIN:VEVENT
UID:nhsy@192.168.245.71:3006
SEQUENCE:0
DTSTAMP:20260421T174741Z
DTSTART:20260324T070000Z
DTEND:20260324T084000Z
SUMMARY:Государственное стратегическое управление
LOCATION:50 уч.к 1331
END:VEVENT
BEGIN:VEVENT
UID:ij0n@192.168.245.71:3006
SEQUENCE:0
DTSTAMP:20260421T174741Z
DTSTART:20260324T090000Z
DTEND:20260324T104000Z
SUMMARY:Государственное стратегическое управление
LOCATION:50 уч.к 1331
END:VEVENT
BEGIN:VEVENT
UID:mqo4@192.168.245.71:3006
SEQUENCE:0
DTSTAMP:20260421T174741Z
DTSTART:20260325T050000Z
DTEND:20260325T064000Z
SUMMARY:Этика публичной службы и противодействие коррупции
LOCATION:50 уч.к 1249
END:VEVENT
BEGIN:VEVENT
UID:w5rv@192.168.245.71:3006
SEQUENCE:0
DTSTAMP:20260421T174741Z
DTSTART:20260325T070000Z
DTEND:20260325T084000Z
SUMMARY:Этика публичной службы и противодействие коррупции
LOCATION:50 уч.к 1115
END:VEVENT
BEGIN:VEVENT
UID:73td@192.168.245.71:3006
SEQUENCE:0
DTSTAMP:20260421T174741Z
DTSTART:20260325T090000Z
DTEND:20260325T104000Z
SUMMARY:Кадровая работа на государственной и муниципальной службе
LOCATION:50 уч.к 1324
END:VEVENT
BEGIN:VEVENT
UID:44bi@192.168.245.71:3006
SEQUENCE:0
DTSTAMP:20260421T174741Z
DTSTART:20260325T110000Z
DTEND:20260325T124000Z
SUMMARY:Планирование и проектирование деятельности органов государственног
 о и муниципального управления
LOCATION:50 уч.к 1232
END:VEVENT
BEGIN:VEVENT
UID:8f6z@192.168.245.71:3006
SEQUENCE:0
DTSTAMP:20260421T174741Z
DTSTART:20260327T050000Z
DTEND:20260327T064000Z
SUMMARY:Государственное регулирование демографических и миграционных проце
 ссов
LOCATION:50 уч.к 1428
END:VEVENT
BEGIN:VEVENT
UID:ohsi@192.168.245.71:3006
SEQUENCE:0
DTSTAMP:20260421T174741Z
DTSTART:20260327T070000Z
DTEND:20260327T084000Z
SUMMARY:Планирование и проектирование деятельности органов государственног
 о и муниципального управления
LOCATION:50 уч.к 1426
END:VEVENT
BEGIN:VEVENT
UID:tjrl@192.168.245.71:3006
SEQUENCE:0
DTSTAMP:20260421T174741Z
DTSTART:20260327T090000Z
DTEND:20260327T104000Z
SUMMARY:Принятие и исполнение государственных решений
LOCATION:50 уч.к 1326
END:VEVENT
BEGIN:VEVENT
UID:okct@192.168.245.71:3006
SEQUENCE:0
DTSTAMP:20260421T174741Z
DTSTART:20260327T110000Z
DTEND:20260327T124000Z
SUMMARY:Государственное регулирование демографических и миграционных проце
 ссов
LOCATION:50 уч.к 1113
END:VEVENT
END:VCALENDAR