BEGIN:VCALENDAR
VERSION:2.0
PRODID:-//spbstu.ru//ical//RU
NAME:Расписание группы 3733804/30102
X-WR-CALNAME:Расписание группы 3733804/30102
TIMEZONE-ID:Europe/Moscow
X-WR-TIMEZONE:Europe/Moscow
BEGIN:VEVENT
UID:gam4@192.168.245.71:3006
SEQUENCE:0
DTSTAMP:20260422T020134Z
DTSTART:20260608T070000Z
DTEND:20260608T080000Z
SUMMARY:Принятие и исполнение государственных решений
LOCATION:50 уч.к 1249
END:VEVENT
BEGIN:VEVENT
UID:0gs9@192.168.245.71:3006
SEQUENCE:0
DTSTAMP:20260422T020134Z
DTSTART:20260610T110000Z
DTEND:20260610T143000Z
SUMMARY:Принятие и исполнение государственных решений
LOCATION:50 уч.к 1218
END:VEVENT
END:VCALENDAR