BEGIN:VCALENDAR
VERSION:2.0
PRODID:-//spbstu.ru//ical//RU
NAME:Расписание группы 3733805/30101
X-WR-CALNAME:Расписание группы 3733805/30101
TIMEZONE-ID:Europe/Moscow
X-WR-TIMEZONE:Europe/Moscow
BEGIN:VEVENT
UID:43jx@192.168.245.71:3006
SEQUENCE:0
DTSTAMP:20260425T222901Z
DTSTART:20251117T130000Z
DTEND:20251117T144000Z
SUMMARY:Сетевые сервисы ИТ-инфраструктуры предприятия
LOCATION:50 уч.к 1111
END:VEVENT
BEGIN:VEVENT
UID:cqnv@192.168.245.71:3006
SEQUENCE:0
DTSTAMP:20260425T222901Z
DTSTART:20251118T070000Z
DTEND:20251118T084000Z
SUMMARY:Математические методы в экономике и управлении
LOCATION:50 уч.к 1250
END:VEVENT
BEGIN:VEVENT
UID:sk6s@192.168.245.71:3006
SEQUENCE:0
DTSTAMP:20260425T222901Z
DTSTART:20251118T090000Z
DTEND:20251118T104000Z
SUMMARY:Сетевые сервисы ИТ-инфраструктуры предприятия
LOCATION:50 уч.к 1336
END:VEVENT
BEGIN:VEVENT
UID:zjgj@192.168.245.71:3006
SEQUENCE:0
DTSTAMP:20260425T222901Z
DTSTART:20251119T090000Z
DTEND:20251119T104000Z
SUMMARY:Базы данных
LOCATION:50 уч.к 1341
END:VEVENT
BEGIN:VEVENT
UID:ufxr@192.168.245.71:3006
SEQUENCE:0
DTSTAMP:20260425T222901Z
DTSTART:20251119T110000Z
DTEND:20251119T124000Z
SUMMARY:Корпоративные информационные системы
LOCATION:50 уч.к 1245
END:VEVENT
BEGIN:VEVENT
UID:ewzb@192.168.245.71:3006
SEQUENCE:0
DTSTAMP:20260425T222901Z
DTSTART:20251119T130000Z
DTEND:20251119T144000Z
SUMMARY:Корпоративные информационные системы
LOCATION:50 уч.к 1245
END:VEVENT
BEGIN:VEVENT
UID:f2m5@192.168.245.71:3006
SEQUENCE:0
DTSTAMP:20260425T222901Z
DTSTART:20251119T150000Z
DTEND:20251119T164000Z
SUMMARY:Базы данных
LOCATION:50 уч.к 1210
END:VEVENT
BEGIN:VEVENT
UID:hfs2@192.168.245.71:3006
SEQUENCE:0
DTSTAMP:20260425T222901Z
DTSTART:20251120T090000Z
DTEND:20251120T104000Z
SUMMARY:Иностранный язык. Профессионально-ориентированный курс
LOCATION:16 к. 401
END:VEVENT
BEGIN:VEVENT
UID:doe3@192.168.245.71:3006
SEQUENCE:0
DTSTAMP:20260425T222901Z
DTSTART:20251122T050000Z
DTEND:20251122T064000Z
SUMMARY:Русский язык как иностранный: Профессионально-ориентированный курс
LOCATION:16 к. 411
END:VEVENT
END:VCALENDAR