BEGIN:VCALENDAR
VERSION:2.0
PRODID:-//spbstu.ru//ical//RU
NAME:Расписание группы 3733805/30101
X-WR-CALNAME:Расписание группы 3733805/30101
TIMEZONE-ID:Europe/Moscow
X-WR-TIMEZONE:Europe/Moscow
BEGIN:VEVENT
UID:88qs@192.168.245.71:3006
SEQUENCE:0
DTSTAMP:20260426T032559Z
DTSTART:20251103T130000Z
DTEND:20251103T144000Z
SUMMARY:Сетевые сервисы ИТ-инфраструктуры предприятия
LOCATION:DL Дистанционно
END:VEVENT
BEGIN:VEVENT
UID:s4aa@192.168.245.71:3006
SEQUENCE:0
DTSTAMP:20260426T032559Z
DTSTART:20251105T090000Z
DTEND:20251105T104000Z
SUMMARY:Базы данных
LOCATION:50 уч.к 1341
END:VEVENT
BEGIN:VEVENT
UID:s0b4@192.168.245.71:3006
SEQUENCE:0
DTSTAMP:20260426T032559Z
DTSTART:20251105T110000Z
DTEND:20251105T124000Z
SUMMARY:Корпоративные информационные системы
LOCATION:50 уч.к 1245
END:VEVENT
BEGIN:VEVENT
UID:vzc8@192.168.245.71:3006
SEQUENCE:0
DTSTAMP:20260426T032559Z
DTSTART:20251105T130000Z
DTEND:20251105T144000Z
SUMMARY:Корпоративные информационные системы
LOCATION:50 уч.к 1245
END:VEVENT
BEGIN:VEVENT
UID:caql@192.168.245.71:3006
SEQUENCE:0
DTSTAMP:20260426T032559Z
DTSTART:20251105T150000Z
DTEND:20251105T164000Z
SUMMARY:Базы данных
LOCATION:50 уч.к 1210
END:VEVENT
BEGIN:VEVENT
UID:k0q2@192.168.245.71:3006
SEQUENCE:0
DTSTAMP:20260426T032559Z
DTSTART:20251106T090000Z
DTEND:20251106T104000Z
SUMMARY:Иностранный язык. Профессионально-ориентированный курс
LOCATION:16 к. 401
END:VEVENT
BEGIN:VEVENT
UID:twed@192.168.245.71:3006
SEQUENCE:0
DTSTAMP:20260426T032559Z
DTSTART:20251108T050000Z
DTEND:20251108T064000Z
SUMMARY:Русский язык как иностранный: Профессионально-ориентированный курс
LOCATION:16 к. 411
END:VEVENT
END:VCALENDAR