BEGIN:VCALENDAR
VERSION:2.0
PRODID:-//spbstu.ru//ical//RU
NAME:Расписание группы 3733805/30101
X-WR-CALNAME:Расписание группы 3733805/30101
TIMEZONE-ID:Europe/Moscow
X-WR-TIMEZONE:Europe/Moscow
BEGIN:VEVENT
UID:lxge@192.168.245.71:3006
SEQUENCE:0
DTSTAMP:20260423T070109Z
DTSTART:20260112T090000Z
DTEND:20260112T094500Z
SUMMARY:Математические методы в экономике и управлении
LOCATION:50 уч.к 1432
END:VEVENT
BEGIN:VEVENT
UID:3p24@192.168.245.71:3006
SEQUENCE:0
DTSTAMP:20260423T070109Z
DTSTART:20260113T110000Z
DTEND:20260113T143000Z
SUMMARY:Математические методы в экономике и управлении
LOCATION:50 уч.к 1324
END:VEVENT
BEGIN:VEVENT
UID:3hcu@192.168.245.71:3006
SEQUENCE:0
DTSTAMP:20260423T070109Z
DTSTART:20260114T090000Z
DTEND:20260114T094500Z
SUMMARY:Базы данных
LOCATION:50 уч.к 1432
END:VEVENT
BEGIN:VEVENT
UID:hqz2@192.168.245.71:3006
SEQUENCE:0
DTSTAMP:20260423T070109Z
DTSTART:20260116T070000Z
DTEND:20260116T093000Z
SUMMARY:Базы данных
LOCATION:50 уч.к 1324
END:VEVENT
BEGIN:VEVENT
UID:3rdy@192.168.245.71:3006
SEQUENCE:0
DTSTAMP:20260423T070109Z
DTSTART:20260117T070000Z
DTEND:20260117T080000Z
SUMMARY:Корпоративные информационные системы
LOCATION:50 уч.к 1111
END:VEVENT
END:VCALENDAR