BEGIN:VCALENDAR
VERSION:2.0
PRODID:-//spbstu.ru//ical//RU
NAME:Расписание группы 3733805/30101
X-WR-CALNAME:Расписание группы 3733805/30101
TIMEZONE-ID:Europe/Moscow
X-WR-TIMEZONE:Europe/Moscow
BEGIN:VEVENT
UID:s9o1@192.168.245.71:3006
SEQUENCE:0
DTSTAMP:20260422T101321Z
DTSTART:20260224T050000Z
DTEND:20260224T064000Z
SUMMARY:Практика по основам управления ИТ-проектами
LOCATION:50 уч.к 1323
END:VEVENT
BEGIN:VEVENT
UID:nm9n@192.168.245.71:3006
SEQUENCE:0
DTSTAMP:20260422T101321Z
DTSTART:20260224T050000Z
DTEND:20260224T064000Z
SUMMARY:Проектная работа по анализу бизнес-процессов предприятия
LOCATION:50 уч.к 1323
END:VEVENT
BEGIN:VEVENT
UID:j1zb@192.168.245.71:3006
SEQUENCE:0
DTSTAMP:20260422T101321Z
DTSTART:20260224T110000Z
DTEND:20260224T124000Z
SUMMARY:Методы оценки эффективности ИТ-проектов
LOCATION:50 уч.к 1338
END:VEVENT
BEGIN:VEVENT
UID:0w20@192.168.245.71:3006
SEQUENCE:0
DTSTAMP:20260422T101321Z
DTSTART:20260225T110000Z
DTEND:20260225T124000Z
SUMMARY:Методы оценки эффективности ИТ-проектов
LOCATION:50 уч.к 1205
END:VEVENT
BEGIN:VEVENT
UID:ubj1@192.168.245.71:3006
SEQUENCE:0
DTSTAMP:20260422T101321Z
DTSTART:20260225T130000Z
DTEND:20260225T144000Z
SUMMARY:Управление жизненным циклом информационных систем
LOCATION:50 уч.к 1101
END:VEVENT
BEGIN:VEVENT
UID:yuuz@192.168.245.71:3006
SEQUENCE:0
DTSTAMP:20260422T101321Z
DTSTART:20260225T150000Z
DTEND:20260225T164000Z
SUMMARY:Управление данными
LOCATION:50 уч.к 1101
END:VEVENT
BEGIN:VEVENT
UID:033i@192.168.245.71:3006
SEQUENCE:0
DTSTAMP:20260422T101321Z
DTSTART:20260226T130000Z
DTEND:20260226T144000Z
SUMMARY:Корпоративные информационные системы
LOCATION:50 уч.к 1243
END:VEVENT
BEGIN:VEVENT
UID:rldr@192.168.245.71:3006
SEQUENCE:0
DTSTAMP:20260422T101321Z
DTSTART:20260226T130000Z
DTEND:20260226T144000Z
SUMMARY:Сетевые сервисы ИТ-инфраструктуры предприятия
LOCATION:50 уч.к 1243
END:VEVENT
BEGIN:VEVENT
UID:5qdv@192.168.245.71:3006
SEQUENCE:0
DTSTAMP:20260422T101321Z
DTSTART:20260227T050000Z
DTEND:20260227T064000Z
SUMMARY:Архитектура предприятия
LOCATION:50 уч.к 1101
END:VEVENT
BEGIN:VEVENT
UID:0p7h@192.168.245.71:3006
SEQUENCE:0
DTSTAMP:20260422T101321Z
DTSTART:20260227T070000Z
DTEND:20260227T084000Z
SUMMARY:Архитектура предприятия
LOCATION:50 уч.к 1101
END:VEVENT
BEGIN:VEVENT
UID:9kqd@192.168.245.71:3006
SEQUENCE:0
DTSTAMP:20260422T101321Z
DTSTART:20260227T090000Z
DTEND:20260227T104000Z
SUMMARY:Эконометрическое моделирование
LOCATION:50 уч.к 1103
END:VEVENT
BEGIN:VEVENT
UID:gnth@192.168.245.71:3006
SEQUENCE:0
DTSTAMP:20260422T101321Z
DTSTART:20260228T110000Z
DTEND:20260228T124000Z
SUMMARY:Управление данными
LOCATION:DL Дистанционно
END:VEVENT
END:VCALENDAR