BEGIN:VCALENDAR
VERSION:2.0
PRODID:-//spbstu.ru//ical//RU
NAME:Расписание группы 3733805/30101
X-WR-CALNAME:Расписание группы 3733805/30101
TIMEZONE-ID:Europe/Moscow
X-WR-TIMEZONE:Europe/Moscow
BEGIN:VEVENT
UID:whhp@192.168.245.71:3006
SEQUENCE:0
DTSTAMP:20260421T062505Z
DTSTART:20260420T090000Z
DTEND:20260420T104000Z
SUMMARY:Архитектура предприятия
LOCATION:50 уч.к 1341
END:VEVENT
BEGIN:VEVENT
UID:at03@192.168.245.71:3006
SEQUENCE:0
DTSTAMP:20260421T062505Z
DTSTART:20260420T110000Z
DTEND:20260420T124000Z
SUMMARY:Управление жизненным циклом информационных систем
LOCATION:50 уч.к 1341
END:VEVENT
BEGIN:VEVENT
UID:zubm@192.168.245.71:3006
SEQUENCE:0
DTSTAMP:20260421T062505Z
DTSTART:20260420T130000Z
DTEND:20260420T144000Z
SUMMARY:Управление жизненным циклом информационных систем
LOCATION:50 уч.к 1341
END:VEVENT
BEGIN:VEVENT
UID:s60p@192.168.245.71:3006
SEQUENCE:0
DTSTAMP:20260421T062505Z
DTSTART:20260421T110000Z
DTEND:20260421T124000Z
SUMMARY:Методы оценки эффективности ИТ-проектов
LOCATION:50 уч.к 1338
END:VEVENT
BEGIN:VEVENT
UID:8zal@192.168.245.71:3006
SEQUENCE:0
DTSTAMP:20260421T062505Z
DTSTART:20260422T110000Z
DTEND:20260422T124000Z
SUMMARY:Методы оценки эффективности ИТ-проектов
LOCATION:50 уч.к 1205
END:VEVENT
BEGIN:VEVENT
UID:fhxo@192.168.245.71:3006
SEQUENCE:0
DTSTAMP:20260421T062505Z
DTSTART:20260422T130000Z
DTEND:20260422T144000Z
SUMMARY:Управление жизненным циклом информационных систем
LOCATION:50 уч.к 1101
END:VEVENT
BEGIN:VEVENT
UID:iyv5@192.168.245.71:3006
SEQUENCE:0
DTSTAMP:20260421T062505Z
DTSTART:20260422T150000Z
DTEND:20260422T164000Z
SUMMARY:Управление данными
LOCATION:50 уч.к 1101
END:VEVENT
BEGIN:VEVENT
UID:6por@192.168.245.71:3006
SEQUENCE:0
DTSTAMP:20260421T062505Z
DTSTART:20260424T050000Z
DTEND:20260424T064000Z
SUMMARY:Архитектура предприятия
LOCATION:50 уч.к 1101
END:VEVENT
BEGIN:VEVENT
UID:nikk@192.168.245.71:3006
SEQUENCE:0
DTSTAMP:20260421T062505Z
DTSTART:20260424T070000Z
DTEND:20260424T084000Z
SUMMARY:Архитектура предприятия
LOCATION:50 уч.к 1101
END:VEVENT
BEGIN:VEVENT
UID:803c@192.168.245.71:3006
SEQUENCE:0
DTSTAMP:20260421T062505Z
DTSTART:20260424T090000Z
DTEND:20260424T104000Z
SUMMARY:Эконометрическое моделирование
LOCATION:50 уч.к 1103
END:VEVENT
BEGIN:VEVENT
UID:362d@192.168.245.71:3006
SEQUENCE:0
DTSTAMP:20260421T062505Z
DTSTART:20260425T110000Z
DTEND:20260425T124000Z
SUMMARY:Управление данными
LOCATION:DL Дистанционно
END:VEVENT
END:VCALENDAR