BEGIN:VCALENDAR
VERSION:2.0
PRODID:-//spbstu.ru//ical//RU
NAME:Расписание группы 3733805/30102
X-WR-CALNAME:Расписание группы 3733805/30102
TIMEZONE-ID:Europe/Moscow
X-WR-TIMEZONE:Europe/Moscow
BEGIN:VEVENT
UID:c4pq@192.168.245.71:3006
SEQUENCE:0
DTSTAMP:20260424T235010Z
DTSTART:20250915T110000Z
DTEND:20250915T124000Z
SUMMARY:Математические методы в экономике и управлении
LOCATION:50 уч.к 1338
END:VEVENT
BEGIN:VEVENT
UID:a51e@192.168.245.71:3006
SEQUENCE:0
DTSTAMP:20260424T235010Z
DTSTART:20250915T130000Z
DTEND:20250915T144000Z
SUMMARY:Сетевые сервисы ИТ-инфраструктуры предприятия
LOCATION:50 уч.к 1338
END:VEVENT
BEGIN:VEVENT
UID:wivo@192.168.245.71:3006
SEQUENCE:0
DTSTAMP:20260424T235010Z
DTSTART:20250915T150000Z
DTEND:20250915T164000Z
SUMMARY:Базы данных
LOCATION:50 уч.к 1110
END:VEVENT
BEGIN:VEVENT
UID:oite@192.168.245.71:3006
SEQUENCE:0
DTSTAMP:20260424T235010Z
DTSTART:20250916T090000Z
DTEND:20250916T104000Z
SUMMARY:Математические методы в экономике и управлении
LOCATION:50 уч.к 1250
END:VEVENT
BEGIN:VEVENT
UID:i876@192.168.245.71:3006
SEQUENCE:0
DTSTAMP:20260424T235010Z
DTSTART:20250916T110000Z
DTEND:20250916T124000Z
SUMMARY:Сетевые сервисы ИТ-инфраструктуры предприятия
LOCATION:50 уч.к 1336
END:VEVENT
BEGIN:VEVENT
UID:4feq@192.168.245.71:3006
SEQUENCE:0
DTSTAMP:20260424T235010Z
DTSTART:20250916T130000Z
DTEND:20250916T144000Z
SUMMARY:Цифровые технологии в управлении бизнесом
LOCATION:50 уч.к 1205
END:VEVENT
BEGIN:VEVENT
UID:qndh@192.168.245.71:3006
SEQUENCE:0
DTSTAMP:20260424T235010Z
DTSTART:20250917T090000Z
DTEND:20250917T104000Z
SUMMARY:Базы данных
LOCATION:50 уч.к 1341
END:VEVENT
BEGIN:VEVENT
UID:m65c@192.168.245.71:3006
SEQUENCE:0
DTSTAMP:20260424T235010Z
DTSTART:20250917T110000Z
DTEND:20250917T124000Z
SUMMARY:Корпоративные информационные системы
LOCATION:50 уч.к 1245
END:VEVENT
BEGIN:VEVENT
UID:jc2k@192.168.245.71:3006
SEQUENCE:0
DTSTAMP:20260424T235010Z
DTSTART:20250917T130000Z
DTEND:20250917T144000Z
SUMMARY:Корпоративные информационные системы
LOCATION:50 уч.к 1245
END:VEVENT
BEGIN:VEVENT
UID:7oxl@192.168.245.71:3006
SEQUENCE:0
DTSTAMP:20260424T235010Z
DTSTART:20250918T090000Z
DTEND:20250918T104000Z
SUMMARY:Иностранный язык. Профессионально-ориентированный курс
LOCATION:16 к. 411
END:VEVENT
BEGIN:VEVENT
UID:iq4h@192.168.245.71:3006
SEQUENCE:0
DTSTAMP:20260424T235010Z
DTSTART:20250918T110000Z
DTEND:20250918T124000Z
SUMMARY:Иностранный язык. Профессионально-ориентированный курс
LOCATION:16 к. 411
END:VEVENT
BEGIN:VEVENT
UID:vw40@192.168.245.71:3006
SEQUENCE:0
DTSTAMP:20260424T235010Z
DTSTART:20250919T150000Z
DTEND:20250919T164000Z
SUMMARY:Русский язык как иностранный: Профессионально-ориентированный курс
LOCATION:16 к. 413
END:VEVENT
BEGIN:VEVENT
UID:tkkq@192.168.245.71:3006
SEQUENCE:0
DTSTAMP:20260424T235010Z
DTSTART:20250920T050000Z
DTEND:20250920T064000Z
SUMMARY:Русский язык как иностранный: Профессионально-ориентированный курс
LOCATION:16 к. 411
END:VEVENT
END:VCALENDAR