BEGIN:VCALENDAR
VERSION:2.0
PRODID:-//spbstu.ru//ical//RU
NAME:Расписание группы 3733805/30102
X-WR-CALNAME:Расписание группы 3733805/30102
TIMEZONE-ID:Europe/Moscow
X-WR-TIMEZONE:Europe/Moscow
BEGIN:VEVENT
UID:x06g@192.168.245.71:3006
SEQUENCE:0
DTSTAMP:20260421T162343Z
DTSTART:20260330T090000Z
DTEND:20260330T104000Z
SUMMARY:Архитектура предприятия
LOCATION:50 уч.к 1341
END:VEVENT
BEGIN:VEVENT
UID:u4ww@192.168.245.71:3006
SEQUENCE:0
DTSTAMP:20260421T162343Z
DTSTART:20260330T110000Z
DTEND:20260330T124000Z
SUMMARY:Эконометрическое моделирование
LOCATION:50 уч.к 1341
END:VEVENT
BEGIN:VEVENT
UID:t71o@192.168.245.71:3006
SEQUENCE:0
DTSTAMP:20260421T162343Z
DTSTART:20260330T130000Z
DTEND:20260330T144000Z
SUMMARY:Управление жизненным циклом информационных систем
LOCATION:50 уч.к 1341
END:VEVENT
BEGIN:VEVENT
UID:fxa0@192.168.245.71:3006
SEQUENCE:0
DTSTAMP:20260421T162343Z
DTSTART:20260331T090000Z
DTEND:20260331T104000Z
SUMMARY:Эконометрическое моделирование
LOCATION:50 уч.к 1101
END:VEVENT
BEGIN:VEVENT
UID:1ttm@192.168.245.71:3006
SEQUENCE:0
DTSTAMP:20260421T162343Z
DTSTART:20260331T110000Z
DTEND:20260331T124000Z
SUMMARY:Методы оценки эффективности ИТ-проектов
LOCATION:50 уч.к 1338
END:VEVENT
BEGIN:VEVENT
UID:1ro2@192.168.245.71:3006
SEQUENCE:0
DTSTAMP:20260421T162343Z
DTSTART:20260331T130000Z
DTEND:20260331T144000Z
SUMMARY:Методы оценки эффективности ИТ-проектов
LOCATION:50 уч.к 1214
END:VEVENT
BEGIN:VEVENT
UID:jqei@192.168.245.71:3006
SEQUENCE:0
DTSTAMP:20260421T162343Z
DTSTART:20260401T070000Z
DTEND:20260401T084000Z
SUMMARY:Управление данными
LOCATION:50 уч.к 1101
END:VEVENT
BEGIN:VEVENT
UID:7b0v@192.168.245.71:3006
SEQUENCE:0
DTSTAMP:20260421T162343Z
DTSTART:20260401T090000Z
DTEND:20260401T104000Z
SUMMARY:Управление данными
LOCATION:50 уч.к 1101
END:VEVENT
BEGIN:VEVENT
UID:id2b@192.168.245.71:3006
SEQUENCE:0
DTSTAMP:20260421T162343Z
DTSTART:20260401T110000Z
DTEND:20260401T124000Z
SUMMARY:Управление жизненным циклом информационных систем
LOCATION:50 уч.к 1101
END:VEVENT
BEGIN:VEVENT
UID:kw3l@192.168.245.71:3006
SEQUENCE:0
DTSTAMP:20260421T162343Z
DTSTART:20260404T110000Z
DTEND:20260404T124000Z
SUMMARY:Управление данными
LOCATION:DL Дистанционно
END:VEVENT
END:VCALENDAR