BEGIN:VCALENDAR
VERSION:2.0
PRODID:-//spbstu.ru//ical//RU
NAME:Расписание группы 3733805/30103
X-WR-CALNAME:Расписание группы 3733805/30103
TIMEZONE-ID:Europe/Moscow
X-WR-TIMEZONE:Europe/Moscow
BEGIN:VEVENT
UID:72h2@192.168.245.71:3006
SEQUENCE:0
DTSTAMP:20260424T061508Z
DTSTART:20251124T090000Z
DTEND:20251124T104000Z
SUMMARY:Цифровые технологии в управлении бизнесом
LOCATION:50 уч.к 1211
END:VEVENT
BEGIN:VEVENT
UID:1mmy@192.168.245.71:3006
SEQUENCE:0
DTSTAMP:20260424T061508Z
DTSTART:20251124T110000Z
DTEND:20251124T124000Z
SUMMARY:Математические методы в экономике и управлении
LOCATION:50 уч.к 1338
END:VEVENT
BEGIN:VEVENT
UID:rmn6@192.168.245.71:3006
SEQUENCE:0
DTSTAMP:20260424T061508Z
DTSTART:20251124T130000Z
DTEND:20251124T144000Z
SUMMARY:Сетевые сервисы ИТ-инфраструктуры предприятия
LOCATION:50 уч.к 1111
END:VEVENT
BEGIN:VEVENT
UID:0kmx@192.168.245.71:3006
SEQUENCE:0
DTSTAMP:20260424T061508Z
DTSTART:20251125T110000Z
DTEND:20251125T124000Z
SUMMARY:Сетевые сервисы ИТ-инфраструктуры предприятия
LOCATION:50 уч.к 1336
END:VEVENT
BEGIN:VEVENT
UID:0zcq@192.168.245.71:3006
SEQUENCE:0
DTSTAMP:20260424T061508Z
DTSTART:20251125T130000Z
DTEND:20251125T144000Z
SUMMARY:Проектная работа по анализу бизнес-процессов предприятия
LOCATION:50 уч.к 1210
END:VEVENT
BEGIN:VEVENT
UID:9gf5@192.168.245.71:3006
SEQUENCE:0
DTSTAMP:20260424T061508Z
DTSTART:20251125T150000Z
DTEND:20251125T164000Z
SUMMARY:Базы данных
LOCATION:50 уч.к 1210
END:VEVENT
BEGIN:VEVENT
UID:oj3m@192.168.245.71:3006
SEQUENCE:0
DTSTAMP:20260424T061508Z
DTSTART:20251126T090000Z
DTEND:20251126T104000Z
SUMMARY:Базы данных
LOCATION:50 уч.к 1341
END:VEVENT
BEGIN:VEVENT
UID:8bmp@192.168.245.71:3006
SEQUENCE:0
DTSTAMP:20260424T061508Z
DTSTART:20251126T110000Z
DTEND:20251126T124000Z
SUMMARY:Корпоративные информационные системы
LOCATION:50 уч.к 1245
END:VEVENT
BEGIN:VEVENT
UID:nen6@192.168.245.71:3006
SEQUENCE:0
DTSTAMP:20260424T061508Z
DTSTART:20251126T130000Z
DTEND:20251126T144000Z
SUMMARY:Корпоративные информационные системы
LOCATION:50 уч.к 1245
END:VEVENT
BEGIN:VEVENT
UID:qygn@192.168.245.71:3006
SEQUENCE:0
DTSTAMP:20260424T061508Z
DTSTART:20251126T150000Z
DTEND:20251126T164000Z
SUMMARY:Математические методы в экономике и управлении
LOCATION:50 уч.к 1232
END:VEVENT
BEGIN:VEVENT
UID:6l74@192.168.245.71:3006
SEQUENCE:0
DTSTAMP:20260424T061508Z
DTSTART:20251127T090000Z
DTEND:20251127T104000Z
SUMMARY:Иностранный язык. Профессионально-ориентированный курс
LOCATION:16 к. 413
END:VEVENT
BEGIN:VEVENT
UID:f70t@192.168.245.71:3006
SEQUENCE:0
DTSTAMP:20260424T061508Z
DTSTART:20251127T110000Z
DTEND:20251127T124000Z
SUMMARY:Иностранный язык. Профессионально-ориентированный курс
LOCATION:16 к. 413
END:VEVENT
BEGIN:VEVENT
UID:liio@192.168.245.71:3006
SEQUENCE:0
DTSTAMP:20260424T061508Z
DTSTART:20251128T150000Z
DTEND:20251128T164000Z
SUMMARY:Русский язык как иностранный: Профессионально-ориентированный курс
LOCATION:16 к. 413
END:VEVENT
BEGIN:VEVENT
UID:950n@192.168.245.71:3006
SEQUENCE:0
DTSTAMP:20260424T061508Z
DTSTART:20251129T050000Z
DTEND:20251129T064000Z
SUMMARY:Русский язык как иностранный: Профессионально-ориентированный курс
LOCATION:16 к. 411
END:VEVENT
END:VCALENDAR