BEGIN:VCALENDAR
VERSION:2.0
PRODID:-//spbstu.ru//ical//RU
NAME:Расписание группы 3733805/30103
X-WR-CALNAME:Расписание группы 3733805/30103
TIMEZONE-ID:Europe/Moscow
X-WR-TIMEZONE:Europe/Moscow
BEGIN:VEVENT
UID:58hp@192.168.245.71:3006
SEQUENCE:0
DTSTAMP:20260424T002721Z
DTSTART:20251215T090000Z
DTEND:20251215T104000Z
SUMMARY:Практика по основам управления ИТ-проектами
LOCATION:50 уч.к 1232
END:VEVENT
BEGIN:VEVENT
UID:h5a7@192.168.245.71:3006
SEQUENCE:0
DTSTAMP:20260424T002721Z
DTSTART:20251215T130000Z
DTEND:20251215T144000Z
SUMMARY:Сетевые сервисы ИТ-инфраструктуры предприятия
LOCATION:50 уч.к 1111
END:VEVENT
BEGIN:VEVENT
UID:8xs7@192.168.245.71:3006
SEQUENCE:0
DTSTAMP:20260424T002721Z
DTSTART:20251216T110000Z
DTEND:20251216T124000Z
SUMMARY:Сетевые сервисы ИТ-инфраструктуры предприятия
LOCATION:50 уч.к 1336
END:VEVENT
BEGIN:VEVENT
UID:vixf@192.168.245.71:3006
SEQUENCE:0
DTSTAMP:20260424T002721Z
DTSTART:20251216T130000Z
DTEND:20251216T144000Z
SUMMARY:Проектная работа по анализу бизнес-процессов предприятия
LOCATION:50 уч.к 1210
END:VEVENT
BEGIN:VEVENT
UID:rq2g@192.168.245.71:3006
SEQUENCE:0
DTSTAMP:20260424T002721Z
DTSTART:20251216T150000Z
DTEND:20251216T164000Z
SUMMARY:Базы данных
LOCATION:50 уч.к 1210
END:VEVENT
BEGIN:VEVENT
UID:hf9u@192.168.245.71:3006
SEQUENCE:0
DTSTAMP:20260424T002721Z
DTSTART:20251217T070000Z
DTEND:20251217T084000Z
SUMMARY:Проектная работа по анализу бизнес-процессов предприятия
LOCATION:50 уч.к 1101
END:VEVENT
BEGIN:VEVENT
UID:884y@192.168.245.71:3006
SEQUENCE:0
DTSTAMP:20260424T002721Z
DTSTART:20251217T090000Z
DTEND:20251217T104000Z
SUMMARY:Проектная работа по анализу бизнес-процессов предприятия
LOCATION:50 уч.к 1101
END:VEVENT
BEGIN:VEVENT
UID:ispc@192.168.245.71:3006
SEQUENCE:0
DTSTAMP:20260424T002721Z
DTSTART:20251219T070000Z
DTEND:20251219T084000Z
SUMMARY:Цифровые технологии в управлении бизнесом
LOCATION:50 уч.к 1205
END:VEVENT
END:VCALENDAR