BEGIN:VCALENDAR
VERSION:2.0
PRODID:-//spbstu.ru//ical//RU
NAME:Расписание группы 3733805/30103
X-WR-CALNAME:Расписание группы 3733805/30103
TIMEZONE-ID:Europe/Moscow
X-WR-TIMEZONE:Europe/Moscow
BEGIN:VEVENT
UID:odu9@192.168.245.71:3006
SEQUENCE:0
DTSTAMP:20260425T225727Z
DTSTART:20250908T090000Z
DTEND:20250908T104000Z
SUMMARY:Практика по основам управления ИТ-проектами
LOCATION:50 уч.к 1232
END:VEVENT
BEGIN:VEVENT
UID:3id7@192.168.245.71:3006
SEQUENCE:0
DTSTAMP:20260425T225727Z
DTSTART:20250908T110000Z
DTEND:20250908T124000Z
SUMMARY:Цифровые технологии в управлении бизнесом
LOCATION:50 уч.к 1338
END:VEVENT
BEGIN:VEVENT
UID:vfrk@192.168.245.71:3006
SEQUENCE:0
DTSTAMP:20260425T225727Z
DTSTART:20250908T130000Z
DTEND:20250908T144000Z
SUMMARY:Сетевые сервисы ИТ-инфраструктуры предприятия
LOCATION:50 уч.к 1338
END:VEVENT
BEGIN:VEVENT
UID:e81h@192.168.245.71:3006
SEQUENCE:0
DTSTAMP:20260425T225727Z
DTSTART:20250909T110000Z
DTEND:20250909T124000Z
SUMMARY:Сетевые сервисы ИТ-инфраструктуры предприятия
LOCATION:50 уч.к 1336
END:VEVENT
BEGIN:VEVENT
UID:jtoo@192.168.245.71:3006
SEQUENCE:0
DTSTAMP:20260425T225727Z
DTSTART:20250909T130000Z
DTEND:20250909T144000Z
SUMMARY:Проектная работа по анализу бизнес-процессов предприятия
LOCATION:50 уч.к 1210
END:VEVENT
BEGIN:VEVENT
UID:l13g@192.168.245.71:3006
SEQUENCE:0
DTSTAMP:20260425T225727Z
DTSTART:20250909T150000Z
DTEND:20250909T164000Z
SUMMARY:Базы данных
LOCATION:50 уч.к 1210
END:VEVENT
BEGIN:VEVENT
UID:n93p@192.168.245.71:3006
SEQUENCE:0
DTSTAMP:20260425T225727Z
DTSTART:20250910T090000Z
DTEND:20250910T104000Z
SUMMARY:Базы данных
LOCATION:50 уч.к 1341
END:VEVENT
BEGIN:VEVENT
UID:ryeu@192.168.245.71:3006
SEQUENCE:0
DTSTAMP:20260425T225727Z
DTSTART:20250910T110000Z
DTEND:20250910T124000Z
SUMMARY:Корпоративные информационные системы
LOCATION:50 уч.к 1245
END:VEVENT
BEGIN:VEVENT
UID:30c1@192.168.245.71:3006
SEQUENCE:0
DTSTAMP:20260425T225727Z
DTSTART:20250910T130000Z
DTEND:20250910T144000Z
SUMMARY:Корпоративные информационные системы
LOCATION:50 уч.к 1245
END:VEVENT
BEGIN:VEVENT
UID:m37w@192.168.245.71:3006
SEQUENCE:0
DTSTAMP:20260425T225727Z
DTSTART:20250910T150000Z
DTEND:20250910T164000Z
SUMMARY:Математические методы в экономике и управлении
LOCATION:50 уч.к 1232
END:VEVENT
BEGIN:VEVENT
UID:3652@192.168.245.71:3006
SEQUENCE:0
DTSTAMP:20260425T225727Z
DTSTART:20250911T090000Z
DTEND:20250911T104000Z
SUMMARY:Иностранный язык. Профессионально-ориентированный курс
LOCATION:16 к. 413
END:VEVENT
BEGIN:VEVENT
UID:9hjm@192.168.245.71:3006
SEQUENCE:0
DTSTAMP:20260425T225727Z
DTSTART:20250913T050000Z
DTEND:20250913T064000Z
SUMMARY:Русский язык как иностранный: Профессионально-ориентированный курс
LOCATION:16 к. 411
END:VEVENT
END:VCALENDAR