BEGIN:VCALENDAR
VERSION:2.0
PRODID:-//spbstu.ru//ical//RU
NAME:Расписание группы 3733805/30103
X-WR-CALNAME:Расписание группы 3733805/30103
TIMEZONE-ID:Europe/Moscow
X-WR-TIMEZONE:Europe/Moscow
BEGIN:VEVENT
UID:14op@192.168.245.71:3006
SEQUENCE:0
DTSTAMP:20260422T235714Z
DTSTART:20260202T090000Z
DTEND:20260202T104000Z
SUMMARY:Архитектура предприятия
LOCATION:50 уч.к 1341
END:VEVENT
BEGIN:VEVENT
UID:obq1@192.168.245.71:3006
SEQUENCE:0
DTSTAMP:20260422T235714Z
DTSTART:20260202T110000Z
DTEND:20260202T124000Z
SUMMARY:Эконометрическое моделирование
LOCATION:50 уч.к 1341
END:VEVENT
BEGIN:VEVENT
UID:5yda@192.168.245.71:3006
SEQUENCE:0
DTSTAMP:20260422T235714Z
DTSTART:20260202T130000Z
DTEND:20260202T144000Z
SUMMARY:Управление жизненным циклом информационных систем
LOCATION:50 уч.к 1341
END:VEVENT
BEGIN:VEVENT
UID:n03z@192.168.245.71:3006
SEQUENCE:0
DTSTAMP:20260422T235714Z
DTSTART:20260202T150000Z
DTEND:20260202T164000Z
SUMMARY:Управление данными
LOCATION:50 уч.к 1101
END:VEVENT
BEGIN:VEVENT
UID:sm8x@192.168.245.71:3006
SEQUENCE:0
DTSTAMP:20260422T235714Z
DTSTART:20260203T110000Z
DTEND:20260203T124000Z
SUMMARY:Методы оценки эффективности ИТ-проектов
LOCATION:50 уч.к 1338
END:VEVENT
BEGIN:VEVENT
UID:2bgf@192.168.245.71:3006
SEQUENCE:0
DTSTAMP:20260422T235714Z
DTSTART:20260203T130000Z
DTEND:20260203T144000Z
SUMMARY:Методы оценки эффективности ИТ-проектов
LOCATION:50 уч.к 1214
END:VEVENT
BEGIN:VEVENT
UID:uwdc@192.168.245.71:3006
SEQUENCE:0
DTSTAMP:20260422T235714Z
DTSTART:20260206T050000Z
DTEND:20260206T064000Z
SUMMARY:Архитектура предприятия
LOCATION:50 уч.к 1101
END:VEVENT
BEGIN:VEVENT
UID:uy3u@192.168.245.71:3006
SEQUENCE:0
DTSTAMP:20260422T235714Z
DTSTART:20260206T070000Z
DTEND:20260206T084000Z
SUMMARY:Архитектура предприятия
LOCATION:50 уч.к 1101
END:VEVENT
BEGIN:VEVENT
UID:m8ak@192.168.245.71:3006
SEQUENCE:0
DTSTAMP:20260422T235714Z
DTSTART:20260206T090000Z
DTEND:20260206T104000Z
SUMMARY:Управление жизненным циклом информационных систем
LOCATION:50 уч.к 1101
END:VEVENT
BEGIN:VEVENT
UID:ymz7@192.168.245.71:3006
SEQUENCE:0
DTSTAMP:20260422T235714Z
DTSTART:20260207T110000Z
DTEND:20260207T124000Z
SUMMARY:Управление данными
LOCATION:DL Дистанционно
END:VEVENT
END:VCALENDAR