BEGIN:VCALENDAR
VERSION:2.0
PRODID:-//spbstu.ru//ical//RU
NAME:Расписание группы 3733805/30201
X-WR-CALNAME:Расписание группы 3733805/30201
TIMEZONE-ID:Europe/Moscow
X-WR-TIMEZONE:Europe/Moscow
BEGIN:VEVENT
UID:ue7p@192.168.245.71:3006
SEQUENCE:0
DTSTAMP:20260423T171720Z
DTSTART:20260112T100000Z
DTEND:20260112T104500Z
SUMMARY:Базы данных
LOCATION:50 уч.к 1432
END:VEVENT
BEGIN:VEVENT
UID:z8vv@192.168.245.71:3006
SEQUENCE:0
DTSTAMP:20260423T171720Z
DTSTART:20260113T100000Z
DTEND:20260113T123000Z
SUMMARY:Базы данных
LOCATION:50 уч.к 1325
END:VEVENT
BEGIN:VEVENT
UID:ot1w@192.168.245.71:3006
SEQUENCE:0
DTSTAMP:20260423T171720Z
DTSTART:20260114T100000Z
DTEND:20260114T104500Z
SUMMARY:Математические методы в экономике и управлении
LOCATION:50 уч.к 1432
END:VEVENT
BEGIN:VEVENT
UID:ogfg@192.168.245.71:3006
SEQUENCE:0
DTSTAMP:20260423T171720Z
DTSTART:20260116T110000Z
DTEND:20260116T143000Z
SUMMARY:Математические методы в экономике и управлении
LOCATION:50 уч.к 1325
END:VEVENT
END:VCALENDAR