BEGIN:VCALENDAR
VERSION:2.0
PRODID:-//spbstu.ru//ical//RU
NAME:Расписание группы 3733805/30201
X-WR-CALNAME:Расписание группы 3733805/30201
TIMEZONE-ID:Europe/Moscow
X-WR-TIMEZONE:Europe/Moscow
BEGIN:VEVENT
UID:c1ww@192.168.245.71:3006
SEQUENCE:0
DTSTAMP:20260422T032344Z
DTSTART:20260406T090000Z
DTEND:20260406T104000Z
SUMMARY:Архитектура предприятия
LOCATION:50 уч.к 1341
END:VEVENT
BEGIN:VEVENT
UID:6f7y@192.168.245.71:3006
SEQUENCE:0
DTSTAMP:20260422T032344Z
DTSTART:20260406T110000Z
DTEND:20260406T124000Z
SUMMARY:Управление жизненным циклом информационных систем
LOCATION:50 уч.к 1341
END:VEVENT
BEGIN:VEVENT
UID:3nzr@192.168.245.71:3006
SEQUENCE:0
DTSTAMP:20260422T032344Z
DTSTART:20260406T130000Z
DTEND:20260406T144000Z
SUMMARY:Управление жизненным циклом информационных систем
LOCATION:50 уч.к 1341
END:VEVENT
BEGIN:VEVENT
UID:x4hz@192.168.245.71:3006
SEQUENCE:0
DTSTAMP:20260422T032344Z
DTSTART:20260407T090000Z
DTEND:20260407T104000Z
SUMMARY:Методы оценки эффективности ИТ-проектов
LOCATION:50 уч.к 1214
END:VEVENT
BEGIN:VEVENT
UID:nwzb@192.168.245.71:3006
SEQUENCE:0
DTSTAMP:20260422T032344Z
DTSTART:20260407T110000Z
DTEND:20260407T124000Z
SUMMARY:Методы оценки эффективности ИТ-проектов
LOCATION:50 уч.к 1338
END:VEVENT
BEGIN:VEVENT
UID:otj3@192.168.245.71:3006
SEQUENCE:0
DTSTAMP:20260422T032344Z
DTSTART:20260407T130000Z
DTEND:20260407T144000Z
SUMMARY:Управление данными
LOCATION:50 уч.к 1110
END:VEVENT
BEGIN:VEVENT
UID:a78p@192.168.245.71:3006
SEQUENCE:0
DTSTAMP:20260422T032344Z
DTSTART:20260410T110000Z
DTEND:20260410T124000Z
SUMMARY:Управление жизненным циклом информационных систем
LOCATION:50 уч.к 1101
END:VEVENT
BEGIN:VEVENT
UID:y8qj@192.168.245.71:3006
SEQUENCE:0
DTSTAMP:20260422T032344Z
DTSTART:20260410T130000Z
DTEND:20260410T144000Z
SUMMARY:Управление данными
LOCATION:50 уч.к 1103
END:VEVENT
BEGIN:VEVENT
UID:uc3q@192.168.245.71:3006
SEQUENCE:0
DTSTAMP:20260422T032344Z
DTSTART:20260411T110000Z
DTEND:20260411T124000Z
SUMMARY:Управление данными
LOCATION:DL Дистанционно
END:VEVENT
END:VCALENDAR