BEGIN:VCALENDAR
VERSION:2.0
PRODID:-//spbstu.ru//ical//RU
NAME:Расписание группы 3733806/30401
X-WR-CALNAME:Расписание группы 3733806/30401
TIMEZONE-ID:Europe/Moscow
X-WR-TIMEZONE:Europe/Moscow
BEGIN:VEVENT
UID:51bk@192.168.245.71:3006
SEQUENCE:0
DTSTAMP:20260422T022321Z
DTSTART:20260609T070000Z
DTEND:20260609T104000Z
SUMMARY:Управление капиталом предприятия торговли
LOCATION:50 уч.к 1225
END:VEVENT
END:VCALENDAR