BEGIN:VCALENDAR
VERSION:2.0
PRODID:-//spbstu.ru//ical//RU
NAME:Расписание группы 3733807/30201
X-WR-CALNAME:Расписание группы 3733807/30201
TIMEZONE-ID:Europe/Moscow
X-WR-TIMEZONE:Europe/Moscow
BEGIN:VEVENT
UID:40cg@192.168.245.71:3006
SEQUENCE:0
DTSTAMP:20260423T222649Z
DTSTART:20251201T070000Z
DTEND:20251201T084000Z
SUMMARY:Маркетинговые исследования
LOCATION:50 уч.к 1317
END:VEVENT
BEGIN:VEVENT
UID:at48@192.168.245.71:3006
SEQUENCE:0
DTSTAMP:20260423T222649Z
DTSTART:20251201T090000Z
DTEND:20251201T104000Z
SUMMARY:Маркетинговые исследования
LOCATION:50 уч.к 1317
END:VEVENT
BEGIN:VEVENT
UID:6397@192.168.245.71:3006
SEQUENCE:0
DTSTAMP:20260423T222649Z
DTSTART:20251201T110000Z
DTEND:20251201T124000Z
SUMMARY:Маркетинговые исследования
LOCATION:50 уч.к 1317
END:VEVENT
BEGIN:VEVENT
UID:eja6@192.168.245.71:3006
SEQUENCE:0
DTSTAMP:20260423T222649Z
DTSTART:20251202T110000Z
DTEND:20251202T124000Z
SUMMARY:Товароведение и экспертиза зерномучных товаров
LOCATION:50 уч.к 1160
END:VEVENT
BEGIN:VEVENT
UID:06nq@192.168.245.71:3006
SEQUENCE:0
DTSTAMP:20260423T222649Z
DTSTART:20251202T130000Z
DTEND:20251202T144000Z
SUMMARY:Товароведение и экспертиза зерномучных товаров
LOCATION:50 уч.к 1160
END:VEVENT
BEGIN:VEVENT
UID:spf8@192.168.245.71:3006
SEQUENCE:0
DTSTAMP:20260423T222649Z
DTSTART:20251203T070000Z
DTEND:20251203T084000Z
SUMMARY:Безопасность товаров
LOCATION:50 уч.к 1120
END:VEVENT
BEGIN:VEVENT
UID:s0ou@192.168.245.71:3006
SEQUENCE:0
DTSTAMP:20260423T222649Z
DTSTART:20251203T090000Z
DTEND:20251203T104000Z
SUMMARY:Безопасность товаров
LOCATION:50 уч.к 1156
END:VEVENT
BEGIN:VEVENT
UID:6uzf@192.168.245.71:3006
SEQUENCE:0
DTSTAMP:20260423T222649Z
DTSTART:20251203T110000Z
DTEND:20251203T124000Z
SUMMARY:Безопасность товаров
LOCATION:50 уч.к 1156
END:VEVENT
BEGIN:VEVENT
UID:g4r6@192.168.245.71:3006
SEQUENCE:0
DTSTAMP:20260423T222649Z
DTSTART:20251204T070000Z
DTEND:20251204T084000Z
SUMMARY:Товароведение и экспертиза кондитерских и вкусовых товаров
LOCATION:50 уч.к 1120
END:VEVENT
BEGIN:VEVENT
UID:9u2w@192.168.245.71:3006
SEQUENCE:0
DTSTAMP:20260423T222649Z
DTSTART:20251204T090000Z
DTEND:20251204T104000Z
SUMMARY:Товароведение и экспертиза кондитерских и вкусовых товаров
LOCATION:50 уч.к 1120
END:VEVENT
BEGIN:VEVENT
UID:grz6@192.168.245.71:3006
SEQUENCE:0
DTSTAMP:20260423T222649Z
DTSTART:20251205T070000Z
DTEND:20251205T084000Z
SUMMARY:Иностранный язык. Профессионально-ориентированный курс
LOCATION:16 к. 403
END:VEVENT
END:VCALENDAR