BEGIN:VCALENDAR
VERSION:2.0
PRODID:-//spbstu.ru//ical//RU
NAME:Расписание группы 3733807/30201
X-WR-CALNAME:Расписание группы 3733807/30201
TIMEZONE-ID:Europe/Moscow
X-WR-TIMEZONE:Europe/Moscow
BEGIN:VEVENT
UID:tpg7@192.168.245.71:3006
SEQUENCE:0
DTSTAMP:20260421T225128Z
DTSTART:20260525T070000Z
DTEND:20260525T094000Z
SUMMARY:Товароведение и экспертиза электробытовых товаров
LOCATION:50 уч.к 1154
END:VEVENT
BEGIN:VEVENT
UID:pbar@192.168.245.71:3006
SEQUENCE:0
DTSTAMP:20260421T225128Z
DTSTART:20260526T070000Z
DTEND:20260526T094000Z
SUMMARY:Товароведение и экспертиза товаров из пластмасс и химических товар
 ов
LOCATION:50 уч.к 1154
END:VEVENT
BEGIN:VEVENT
UID:zo5e@192.168.245.71:3006
SEQUENCE:0
DTSTAMP:20260421T225128Z
DTSTART:20260527T070000Z
DTEND:20260527T094000Z
SUMMARY:Лабораторный практикум по товароведению и экспертизе плодоовощных 
 товаров
LOCATION:50 уч.к 1120
END:VEVENT
BEGIN:VEVENT
UID:wgnv@192.168.245.71:3006
SEQUENCE:0
DTSTAMP:20260421T225128Z
DTSTART:20260528T070000Z
DTEND:20260528T094000Z
SUMMARY:Товароведение и экспертиза кожевенно-обувных товаров
LOCATION:50 уч.к 1156
END:VEVENT
BEGIN:VEVENT
UID:nf90@192.168.245.71:3006
SEQUENCE:0
DTSTAMP:20260421T225128Z
DTSTART:20260529T070000Z
DTEND:20260529T094000Z
SUMMARY:Товароведение и экспертиза молочных продуктов и пищевых жиров
LOCATION:50 уч.к 1120
END:VEVENT
END:VCALENDAR