BEGIN:VCALENDAR
VERSION:2.0
PRODID:-//spbstu.ru//ical//RU
NAME:Расписание группы 3734302/30101
X-WR-CALNAME:Расписание группы 3734302/30101
TIMEZONE-ID:Europe/Moscow
X-WR-TIMEZONE:Europe/Moscow
BEGIN:VEVENT
UID:u6av@192.168.245.71:3006
SEQUENCE:0
DTSTAMP:20260424T025614Z
DTSTART:20251117T110000Z
DTEND:20251117T124000Z
SUMMARY:Иностранный язык. Профессионально-ориентированный курс
LOCATION:16 к. 401
END:VEVENT
BEGIN:VEVENT
UID:fl2o@192.168.245.71:3006
SEQUENCE:0
DTSTAMP:20260424T025614Z
DTSTART:20251118T050000Z
DTEND:20251118T064000Z
SUMMARY:Карьерная адаптивность: Организация туристической деятельности на 
 промышленном предприятии
LOCATION:50 уч.к 1424
END:VEVENT
BEGIN:VEVENT
UID:0v6j@192.168.245.71:3006
SEQUENCE:0
DTSTAMP:20260424T025614Z
DTSTART:20251118T070000Z
DTEND:20251118T084000Z
SUMMARY:Карьерная адаптивность: Организация туристической деятельности на 
 промышленном предприятии
LOCATION:50 уч.к 1424
END:VEVENT
BEGIN:VEVENT
UID:jp1y@192.168.245.71:3006
SEQUENCE:0
DTSTAMP:20260424T025614Z
DTSTART:20251118T090000Z
DTEND:20251118T104000Z
SUMMARY:Карьерная адаптивность: Организация туристической деятельности на 
 промышленном предприятии
LOCATION:50 уч.к 1428
END:VEVENT
BEGIN:VEVENT
UID:8hrz@192.168.245.71:3006
SEQUENCE:0
DTSTAMP:20260424T025614Z
DTSTART:20251118T110000Z
DTEND:20251118T134000Z
SUMMARY:Информационные технологии в индустрии туризма
LOCATION:50 уч.к 1103
END:VEVENT
BEGIN:VEVENT
UID:brqa@192.168.245.71:3006
SEQUENCE:0
DTSTAMP:20260424T025614Z
DTSTART:20251120T070000Z
DTEND:20251120T084000Z
SUMMARY:Стандартизация и контроль качества услуг
LOCATION:50 уч.к 1341
END:VEVENT
BEGIN:VEVENT
UID:fa4p@192.168.245.71:3006
SEQUENCE:0
DTSTAMP:20260424T025614Z
DTSTART:20251120T090000Z
DTEND:20251120T104000Z
SUMMARY:Экономика туризма
LOCATION:50 уч.к 1324
END:VEVENT
BEGIN:VEVENT
UID:evdj@192.168.245.71:3006
SEQUENCE:0
DTSTAMP:20260424T025614Z
DTSTART:20251120T110000Z
DTEND:20251120T124000Z
SUMMARY:Стандартизация и контроль качества услуг
LOCATION:50 уч.к 1328
END:VEVENT
BEGIN:VEVENT
UID:fr8z@192.168.245.71:3006
SEQUENCE:0
DTSTAMP:20260424T025614Z
DTSTART:20251120T130000Z
DTEND:20251120T144000Z
SUMMARY:Стандартизация и контроль качества услуг
LOCATION:50 уч.к 1328
END:VEVENT
BEGIN:VEVENT
UID:wcjb@192.168.245.71:3006
SEQUENCE:0
DTSTAMP:20260424T025614Z
DTSTART:20251121T050000Z
DTEND:20251121T064000Z
SUMMARY:Организация туристской деятельности
LOCATION:50 уч.к 1225
END:VEVENT
BEGIN:VEVENT
UID:i1dg@192.168.245.71:3006
SEQUENCE:0
DTSTAMP:20260424T025614Z
DTSTART:20251121T070000Z
DTEND:20251121T084000Z
SUMMARY:Организация туристской деятельности
LOCATION:50 уч.к 1225
END:VEVENT
BEGIN:VEVENT
UID:zm94@192.168.245.71:3006
SEQUENCE:0
DTSTAMP:20260424T025614Z
DTSTART:20251122T050000Z
DTEND:20251122T064000Z
SUMMARY:Русский язык как иностранный: Профессионально-ориентированный курс
LOCATION:16 к. 411
END:VEVENT
END:VCALENDAR