BEGIN:VCALENDAR
VERSION:2.0
PRODID:-//spbstu.ru//ical//RU
NAME:Расписание группы 3734302/30101
X-WR-CALNAME:Расписание группы 3734302/30101
TIMEZONE-ID:Europe/Moscow
X-WR-TIMEZONE:Europe/Moscow
BEGIN:VEVENT
UID:hfw3@192.168.245.71:3006
SEQUENCE:0
DTSTAMP:20260421T173451Z
DTSTART:20260525T070000Z
DTEND:20260525T094000Z
SUMMARY:Финансовый анализ деятельности компании
LOCATION:50 уч.к 1232
END:VEVENT
BEGIN:VEVENT
UID:2li6@192.168.245.71:3006
SEQUENCE:0
DTSTAMP:20260421T173451Z
DTSTART:20260526T070000Z
DTEND:20260526T094000Z
SUMMARY:Туроператорская и турагентская деятельность
LOCATION:50 уч.к 1233
END:VEVENT
BEGIN:VEVENT
UID:eww9@192.168.245.71:3006
SEQUENCE:0
DTSTAMP:20260421T173451Z
DTSTART:20260528T100000Z
DTEND:20260528T124000Z
SUMMARY:Сервис-дизайн
LOCATION:50 уч.к 1231
END:VEVENT
BEGIN:VEVENT
UID:t4bs@192.168.245.71:3006
SEQUENCE:0
DTSTAMP:20260421T173451Z
DTSTART:20260529T110000Z
DTEND:20260529T124000Z
SUMMARY:Управление персоналом в индустрии туризма
LOCATION:DL Дистанционно
END:VEVENT
END:VCALENDAR