BEGIN:VCALENDAR
VERSION:2.0
PRODID:-//spbstu.ru//ical//RU
NAME:Расписание группы 3734303/30102
X-WR-CALNAME:Расписание группы 3734303/30102
TIMEZONE-ID:Europe/Moscow
X-WR-TIMEZONE:Europe/Moscow
BEGIN:VEVENT
UID:r34j@192.168.245.71:3006
SEQUENCE:0
DTSTAMP:20260424T022944Z
DTSTART:20251020T070000Z
DTEND:20251020T084000Z
SUMMARY:Стандартизация и контроль качества услуг
LOCATION:50 уч.к 1319
END:VEVENT
BEGIN:VEVENT
UID:tw7n@192.168.245.71:3006
SEQUENCE:0
DTSTAMP:20260424T022944Z
DTSTART:20251020T090000Z
DTEND:20251020T104000Z
SUMMARY:Стандартизация и контроль качества услуг
LOCATION:50 уч.к 1319
END:VEVENT
BEGIN:VEVENT
UID:2z4u@192.168.245.71:3006
SEQUENCE:0
DTSTAMP:20260424T022944Z
DTSTART:20251020T110000Z
DTEND:20251020T124000Z
SUMMARY:Иностранный язык. Профессионально-ориентированный курс
LOCATION:16 к. 418
END:VEVENT
BEGIN:VEVENT
UID:mbyx@192.168.245.71:3006
SEQUENCE:0
DTSTAMP:20260424T022944Z
DTSTART:20251022T050000Z
DTEND:20251022T064000Z
SUMMARY:Информационные технологии  в гостиничной деятельности
LOCATION:50 уч.к 1336а
END:VEVENT
BEGIN:VEVENT
UID:ludt@192.168.245.71:3006
SEQUENCE:0
DTSTAMP:20260424T022944Z
DTSTART:20251022T070000Z
DTEND:20251022T084000Z
SUMMARY:Экономика гостеприимства
LOCATION:50 уч.к 1121
END:VEVENT
BEGIN:VEVENT
UID:lq3a@192.168.245.71:3006
SEQUENCE:0
DTSTAMP:20260424T022944Z
DTSTART:20251022T090000Z
DTEND:20251022T104000Z
SUMMARY:Экономика гостеприимства
LOCATION:50 уч.к 1121
END:VEVENT
BEGIN:VEVENT
UID:3ezm@192.168.245.71:3006
SEQUENCE:0
DTSTAMP:20260424T022944Z
DTSTART:20251023T070000Z
DTEND:20251023T084000Z
SUMMARY:Стандартизация и контроль качества услуг
LOCATION:50 уч.к 1341
END:VEVENT
BEGIN:VEVENT
UID:699b@192.168.245.71:3006
SEQUENCE:0
DTSTAMP:20260424T022944Z
DTSTART:20251023T090000Z
DTEND:20251023T104000Z
SUMMARY:Организация и технологии гостиничного бизнеса
LOCATION:50 уч.к 1319
END:VEVENT
BEGIN:VEVENT
UID:tvv5@192.168.245.71:3006
SEQUENCE:0
DTSTAMP:20260424T022944Z
DTSTART:20251023T110000Z
DTEND:20251023T124000Z
SUMMARY:Экономика гостеприимства
LOCATION:50 уч.к 1319
END:VEVENT
BEGIN:VEVENT
UID:6izs@192.168.245.71:3006
SEQUENCE:0
DTSTAMP:20260424T022944Z
DTSTART:20251023T130000Z
DTEND:20251023T144000Z
SUMMARY:Организация и технологии гостиничного бизнеса
LOCATION:50 уч.к 1327
END:VEVENT
BEGIN:VEVENT
UID:htx8@192.168.245.71:3006
SEQUENCE:0
DTSTAMP:20260424T022944Z
DTSTART:20251025T050000Z
DTEND:20251025T064000Z
SUMMARY:Русский язык как иностранный: Профессионально-ориентированный курс
LOCATION:16 к. 411
END:VEVENT
BEGIN:VEVENT
UID:o7yo@192.168.245.71:3006
SEQUENCE:0
DTSTAMP:20260424T022944Z
DTSTART:20251025T070000Z
DTEND:20251025T084000Z
SUMMARY:Управление лояльностью потребителей
LOCATION:50 уч.к 1243
END:VEVENT
BEGIN:VEVENT
UID:bgf9@192.168.245.71:3006
SEQUENCE:0
DTSTAMP:20260424T022944Z
DTSTART:20251025T090000Z
DTEND:20251025T104000Z
SUMMARY:Управление лояльностью потребителей
LOCATION:50 уч.к 1243
END:VEVENT
BEGIN:VEVENT
UID:24iz@192.168.245.71:3006
SEQUENCE:0
DTSTAMP:20260424T022944Z
DTSTART:20251025T110000Z
DTEND:20251025T124000Z
SUMMARY:Управление лояльностью потребителей
LOCATION:50 уч.к 1243
END:VEVENT
END:VCALENDAR