BEGIN:VCALENDAR
VERSION:2.0
PRODID:-//spbstu.ru//ical//RU
NAME:Расписание группы 3734303/30102
X-WR-CALNAME:Расписание группы 3734303/30102
TIMEZONE-ID:Europe/Moscow
X-WR-TIMEZONE:Europe/Moscow
BEGIN:VEVENT
UID:nkzy@192.168.245.71:3006
SEQUENCE:0
DTSTAMP:20260424T004038Z
DTSTART:20251027T110000Z
DTEND:20251027T124000Z
SUMMARY:Иностранный язык. Профессионально-ориентированный курс
LOCATION:16 к. 418
END:VEVENT
BEGIN:VEVENT
UID:o7vw@192.168.245.71:3006
SEQUENCE:0
DTSTAMP:20260424T004038Z
DTSTART:20251027T130000Z
DTEND:20251027T144000Z
SUMMARY:Иностранный язык. Профессионально-ориентированный курс
LOCATION:16 к. 418
END:VEVENT
BEGIN:VEVENT
UID:8wr0@192.168.245.71:3006
SEQUENCE:0
DTSTAMP:20260424T004038Z
DTSTART:20251030T090000Z
DTEND:20251030T104000Z
SUMMARY:Организация и технологии гостиничного бизнеса
LOCATION:50 уч.к 1319
END:VEVENT
BEGIN:VEVENT
UID:fjf5@192.168.245.71:3006
SEQUENCE:0
DTSTAMP:20260424T004038Z
DTSTART:20251030T110000Z
DTEND:20251030T124000Z
SUMMARY:Экономика гостеприимства
LOCATION:50 уч.к 1319
END:VEVENT
BEGIN:VEVENT
UID:fru0@192.168.245.71:3006
SEQUENCE:0
DTSTAMP:20260424T004038Z
DTSTART:20251030T130000Z
DTEND:20251030T144000Z
SUMMARY:Организация и технологии гостиничного бизнеса
LOCATION:50 уч.к 1327
END:VEVENT
BEGIN:VEVENT
UID:9nx4@192.168.245.71:3006
SEQUENCE:0
DTSTAMP:20260424T004038Z
DTSTART:20251031T150000Z
DTEND:20251031T164000Z
SUMMARY:Русский язык как иностранный: Профессионально-ориентированный курс
LOCATION:16 к. 413
END:VEVENT
BEGIN:VEVENT
UID:gxdx@192.168.245.71:3006
SEQUENCE:0
DTSTAMP:20260424T004038Z
DTSTART:20251101T050000Z
DTEND:20251101T064000Z
SUMMARY:Русский язык как иностранный: Профессионально-ориентированный курс
LOCATION:16 к. 411
END:VEVENT
END:VCALENDAR